BEGIN:VCALENDAR
VERSION:2.0
PRODID:-//wp-events-plugin.com//7.2.3.1//EN
TZID:Europe/Berlin
X-WR-TIMEZONE:Europe/Berlin
BEGIN:VEVENT
UID:0-348@sgdu-mbh.de
DTSTART;TZID=Europe/Berlin:20221112T100000
DTEND;TZID=Europe/Berlin:20221112T153000
DTSTAMP:20221111T115151Z
URL:https://sgdu-mbh.de/veranstaltungen/zertifiziertes-live-webinar-impfgr
 undlagen-fuer-die-urologische-praxis-2/
SUMMARY:Zertifiziertes Live-Webinar: Impfgrundlagen für die urologische Pr
 axis
DESCRIPTION:Nicht nur die HPV-Impfung ist interessant für urologische Prax
 en\, sondern auch andere\, fachgebietsübergreifende Impfungen\, die dem S
 chutz der Bevölkerung dienen\, aktuell auch die anstehenden Covid-19-Impf
 ungen.\n\nDiesbezüglich müssen Urologinnen und Urologen\, die Impfungen 
 in ihrer Praxis anbieten wollen\, nicht nur die rechtliche Hintergründe\,
  die Empfehlungen der Ständigen Impfkommission (STIKO) und die notwendige
  Impfdokumentation kennen\, sondern auch über Impfreaktionen\, -komplikat
 ionen\, Impfungen bei chronisch Kranken\, Immundeffizienten und weiteres i
 nformiert sein.\n\nInsofern dient dieser Kurs der Erhöhung der Fachkompet
 enz und nicht zuletzt auch der Qualitätssicherung.\nInhalte u.a.\n\n 	Gru
 ndlagen: Prinzip und Ziel von Schutzimpfungen\, Impfaufklärung\, Kontrain
 dikationen\, Impfabstände\, Impfstoffe\, Wirkungen\, Nebenwirkungen\n 	ST
 IKO-Impfkalender\n 	Spezielle Themen: Impfungen im Umfeld von Schwangersch
 aften\, bei chronisch Kranken\, onkologischen und/oder Patienten unter imm
 unsuppressiver Therapie\n 	Impfmanagement: Von der Durchführung über die
  Dokumentation bis zur Abrechnung\n\nCME-Punkte werden beantragt.\n\n&nbsp
 \;\n\n\n\n\n\n\n\nMit freundlicher Unterstützung durch\n[su_row][su_colum
 n size="1/3"]\n\n[caption id="" align="alignnone" width="195" class="spons
 oring"] 2.000\,00 EUR für Werbemaßnahmen[/caption]\n\n[/su_column][su_co
 lumn size="1/3"]\n\nMehr zu MSD\n[ddownload id="7722" text="GARDASIL® 9 (
 PDF)"]\n[ddownload id="7723" text="PNEUMOVAX® 23 Fertigspritze (PDF)"]\n\
 n[/su_column][su_column size="1/3"]\nWeiterführende Beratung:\nDr. Peter 
 Schröder\nMSD Sharp &amp\; Dohme GmbH\nE-Mail schreiben →\n\n[/su_colum
 n][/su_row]\n[su_row][su_column size="1/3"]\n\n[caption id="" align="align
 none" width="195" class="sponsoring"] 2.000\,00 EUR für Werbemaßnahmen[/
 caption]\n\n[/su_column][su_column size="1/3"]\n\nMehr zu Pfizer\n\n[/su_c
 olumn][su_column size="1/3"]\n[/su_column][/su_row]\n&nbsp\;
CATEGORIES:Ärztinnen &amp; Ärzte,Impfen
END:VEVENT
BEGIN:VTIMEZONE
TZID:Europe/Berlin
X-LIC-LOCATION:Europe/Berlin
BEGIN:STANDARD
DTSTART:20221030T020000
TZOFFSETFROM:+0200
TZOFFSETTO:+0100
TZNAME:CET
END:STANDARD
END:VTIMEZONE
END:VCALENDAR