BEGIN:VCALENDAR
VERSION:2.0
PRODID:-//wp-events-plugin.com//7.2.3.1//EN
TZID:Europe/Berlin
X-WR-TIMEZONE:Europe/Berlin
BEGIN:VEVENT
UID:0-257@sgdu-mbh.de
DTSTART;TZID=Europe/Berlin:20210615T190000
DTEND;TZID=Europe/Berlin:20210615T193000
DTSTAMP:20210413T071837Z
URL:https://sgdu-mbh.de/veranstaltungen/webinar-update-kassenabrechnung-te
 rminservicegesetz-tsvg-chancen-und-hindernisse-bremen/
SUMMARY:Webinar Update Kassenabrechnung | Terminservicegesetz (TSVG) und Co
 rona: Chancen und Hindernisse |  Bremen
DESCRIPTION:Mit der freundlichen Unterstützung von Dr. Pfleger haben wir d
 ie bundesweite Webinar-Reihe „Update Kassenabrechnung“ ins Leben geruf
 en. Hier erhalten Sie quartalsweise Informationen zur Abrechnung gezielt a
 uf Ihren KV-Bereich zugeschnitten.\n\nDas „Gesetz für schnellere Termin
 e und bessere Versorgung“ ist bereits seit dem 01.11.2019 in Kraft und h
 at auch Änderungen und Anforderungen für urologische Praxen mit sich geb
 racht. Für die Kassenabrechnung sind u.a. die extrabudgetär abrechenbare
 n Leistungen sowie auch die Zuschläge für TSS-Fälle interessant. Gibt e
 s auch Stolperfallen?\n\nWeitere Infos und Registrierung
CATEGORIES:Abrechnung,Ärztinnen &amp; Ärzte
END:VEVENT
BEGIN:VTIMEZONE
TZID:Europe/Berlin
X-LIC-LOCATION:Europe/Berlin
BEGIN:DAYLIGHT
DTSTART:20210328T030000
TZOFFSETFROM:+0100
TZOFFSETTO:+0200
TZNAME:CEST
END:DAYLIGHT
END:VTIMEZONE
END:VCALENDAR