BEGIN:VCALENDAR
VERSION:2.0
PRODID:-//wp-events-plugin.com//7.2.3.1//EN
TZID:Europe/Berlin
X-WR-TIMEZONE:Europe/Berlin
BEGIN:VEVENT
UID:0-454@sgdu-mbh.de
DTSTART;TZID=Europe/Berlin:20240215T190000
DTEND;TZID=Europe/Berlin:20240215T193000
DTSTAMP:20231211T093203Z
URL:https://sgdu-mbh.de/veranstaltungen/webinar-update-kassenabrechnung-pr
 ostatabiopsien-und-andere-neuigkeiten-seit-01-01-2024-westfalen-lippe/
SUMMARY:Webinar Update Kassenabrechnung | Prostatabiopsien und andere Neuig
 keiten seit 01.01.2024 | Westfalen-Lippe
DESCRIPTION:Mit der freundlichen Unterstützung von Dr. Pfleger haben wir d
 ie bundesweite Webinar-Reihe „Update Kassenabrechnung“ ins Leben geruf
 en. Hier erhalten Sie quartalsweise Informationen zur Abrechnung gezielt a
 uf Ihren KV-Bereich zugeschnitten.\n\nWeitere Infos und Registrierung
CATEGORIES:Ärztinnen &amp; Ärzte,Online-Schulung
END:VEVENT
BEGIN:VTIMEZONE
TZID:Europe/Berlin
X-LIC-LOCATION:Europe/Berlin
BEGIN:STANDARD
DTSTART:20231029T020000
TZOFFSETFROM:+0200
TZOFFSETTO:+0100
TZNAME:CET
END:STANDARD
END:VTIMEZONE
END:VCALENDAR