BEGIN:VCALENDAR
VERSION:2.0
PRODID:-//wp-events-plugin.com//7.2.3.1//EN
TZID:Europe/Berlin
X-WR-TIMEZONE:Europe/Berlin
BEGIN:VEVENT
UID:0-425@sgdu-mbh.de
DTSTART;TZID=Europe/Berlin:20230511T190000
DTEND;TZID=Europe/Berlin:20230511T193000
DTSTAMP:20231207T124658Z
URL:https://sgdu-mbh.de/veranstaltungen/webinar-update-kassenabrechnung-ge
 nehmigungsfrei-abrechnung-ebm-31er-kapitel-fuer-alle-achtung-auch-mit-2635
 0-berlin-brandenburg-mecklenburg-vorpommern-2/
SUMMARY:Webinar Update Kassenabrechnung | Genehmigungsfrei! Abrechnung EBM 
 31er Kapitel für alle. Achtung auch mit 26350 | Berlin\, Brandenburg\, Me
 cklenburg-Vorpommern
DESCRIPTION:Mit der freundlichen Unterstützung von Dr. Pfleger haben wir d
 ie bundesweite Webinar-Reihe „Update Kassenabrechnung“ ins Leben geruf
 en. Hier erhalten Sie quartalsweise Informationen zur Abrechnung gezielt a
 uf Ihren KV-Bereich zugeschnitten.\n\nWeitere Infos und Registrierung
CATEGORIES:Abrechnung,Ärztinnen &amp; Ärzte
END:VEVENT
BEGIN:VTIMEZONE
TZID:Europe/Berlin
X-LIC-LOCATION:Europe/Berlin
BEGIN:DAYLIGHT
DTSTART:20230326T030000
TZOFFSETFROM:+0100
TZOFFSETTO:+0200
TZNAME:CEST
END:DAYLIGHT
END:VTIMEZONE
END:VCALENDAR