BEGIN:VCALENDAR
VERSION:2.0
PRODID:-//wp-events-plugin.com//7.2.3.1//EN
TZID:Europe/Berlin
X-WR-TIMEZONE:Europe/Berlin
BEGIN:VEVENT
UID:0-540@sgdu-mbh.de
DTSTART;TZID=Europe/Berlin:20251127T190000
DTEND;TZID=Europe/Berlin:20251127T193000
DTSTAMP:20251015T072220Z
URL:https://sgdu-mbh.de/veranstaltungen/webinar-mythen-in-der-abrechnung/
SUMMARY:Webinar „Mythen in der Abrechnung“ mit Dr. Pfleger Arzneimittel
  GmbH
DESCRIPTION:Referentin:\nKatrin Nitz\nDr. Pfleger / Key Account Med. Practi
 ce Economics | Health Manager Pharma (FH)\nAnmeldung:\nAnmeldung direkt ü
 ber GoToWebinar. Nutzen Sie dafür folgenden Link:\n\nhttps://attendee.got
 owebinar.com/register/2159940465883750489\n\n(Link öffnet im neuen Tab)\n
 \n\n\nMit freundlicher Unterstützung von: 
CATEGORIES:Abrechnung,Ärztinnen &amp; Ärzte
END:VEVENT
BEGIN:VTIMEZONE
TZID:Europe/Berlin
X-LIC-LOCATION:Europe/Berlin
BEGIN:STANDARD
DTSTART:20251026T020000
TZOFFSETFROM:+0200
TZOFFSETTO:+0100
TZNAME:CET
END:STANDARD
END:VTIMEZONE
END:VCALENDAR