BEGIN:VCALENDAR
VERSION:2.0
PRODID:-//wp-events-plugin.com//7.2.3.1//EN
TZID:Europe/Berlin
X-WR-TIMEZONE:Europe/Berlin
BEGIN:VEVENT
UID:0-347@sgdu-mbh.de
DTSTART;TZID=Europe/Berlin;VALUE=DATE:20221111
DTEND;TZID=Europe/Berlin;VALUE=DATE:20221113
DTSTAMP:20221111T083349Z
URL:https://sgdu-mbh.de/veranstaltungen/urologische-tumortherapie-in-schle
 swig-holstein-5/
SUMMARY:Urologische Tumortherapie in Schleswig-Holstein
DESCRIPTION:Einladung und weiterführende Informationen zur Veranstaltung i
 n 2022 stehen aktuell noch aus. Nur eines ist klar: Es wird wieder großar
 tig werden.\n\nCME-Punkte werden bei der zuständigen Ärztekammer beantra
 gt.\nProgramm und Infos\nBitte entnehmen Sie alle weiteren Infos dem Flyer
  im Download:\n\n[ddownload id="8542" text="Alle Infos zum Mitnehmen"]\n\n
 Alle Plätze für das Arbeitsessen sind leider bereits vergeben.\nAnmeldun
 g\n[show_more color="#387259" more="Jetzt registrieren!" less="Registrieru
 ng schließen"]\n﻿[/show_more]\n\n\n\nFolgende Partner tragen zum guten 
 Gelingen dieser Veranstaltung bei:\n[su_row][su_column size="1/4" center="
 no"]\n\n[caption id="" align="alignnone" width="195" class="sponsoring"] 1
 .000\,00 EUR für Werbemaßnahmen[/caption]\n\n[/su_column][su_column size
 ="1/4" center="no"]\n\n[caption id="" align="alignnone" width="195" class=
 "sponsoring"] 2.000\,00 EUR für Werbemaßnahmen[/caption]\n\n[/su_column]
 [su_column size="1/4" center="no"]\n\n[caption id="" align="alignnone" wid
 th="195" class="sponsoring"] 1.100\,00 EUR für Werbemaßnahmen[/caption]\
 n\n[/su_column][su_column size="1/4" center="no"]\n\n[caption id="" align=
 "alignnone" width="195" class="sponsoring"] 1.000\,00 EUR für Werbemaßna
 hmen[/caption]\n\n[/su_column][/su_row]\n\n[su_row][su_column size="1/4" c
 enter="no"]\n\n\n\n[/su_column][su_column size="1/4" center="no"]\n\n[capt
 ion id="" align="alignnone" width="195" class="sponsoring"] 1.000\,00 EUR 
 für Werbemaßnahmen[/caption]\n\n[/su_column][su_column size="1/4" center
 ="no"]\n\n[caption id="" align="alignnone" width="195" class="sponsoring"]
  1.000\,00 EUR für Werbemaßnahmen[/caption]\n\n[/su_column][su_column si
 ze="1/4" center="no"]\n\n[caption id="" align="alignnone" width="195" clas
 s="sponsoring"] 1.000\,00 EUR für Werbemaßnahmen[/caption]\n\n[/su_colum
 n][/su_row]\n\n[su_row][su_column size="1/4" center="no"]\n\n[caption id="
 " align="alignnone" width="195" class="sponsoring"] 2.000\,00 EUR für Wer
 bemaßnahmen[/caption]\n\n[/su_column][su_column size="1/4" center="no"]\n
 \n[caption id="" align="alignnone" width="195" class="sponsoring"] 1.200\,
 00 EUR für Werbemaßnahmen[/caption]\n\n[/su_column][su_column size="1/4"
  center="no"]\n\n[caption id="" align="alignnone" width="195" class="spons
 oring"] 1.500\,00 EUR für Werbemaßnahmen[/caption]\n\n[/su_column][su_co
 lumn size="1/4" center="no"]\n\n[caption id="" align="alignnone" width="19
 5" class="sponsoring"] 2.000\,00 EUR für Werbemaßnahmen[/caption]\n\n[/s
 u_column][/su_row]\n\n[su_row][su_column size="1/4" center="no"]\n\n[capti
 on id="" align="alignnone" width="195" class="sponsoring"] 1.000\,00 EUR f
 ür Werbemaßnahmen[/caption]\n\n[/su_column][su_column size="1/4" center=
 "no"]\n\n&nbsp\;\n\n[/su_column][su_column size="1/4" center="no"]\n\n&nbs
 p\;\n\n[/su_column][su_column size="1/4" center="no"]\n\n&nbsp\;\n\n[/su_c
 olumn][/su_row]
CATEGORIES:Ärztinnen &amp; Ärzte
LOCATION:Hotel Altes Stahlwerk\, Rendsburger Straße 81\, Neumünster\, 245
 37\, Deutschland
GEO:54.08315;9.978460000000041
X-APPLE-STRUCTURED-LOCATION;VALUE=URI;X-ADDRESS=Rendsburger Straße 81\, Ne
 umünster\, 24537\, Deutschland;X-APPLE-RADIUS=100;X-TITLE=Hotel Altes Sta
 hlwerk:geo:54.08315,9.978460000000041
END:VEVENT
BEGIN:VTIMEZONE
TZID:Europe/Berlin
X-LIC-LOCATION:Europe/Berlin
BEGIN:STANDARD
DTSTART:20221030T020000
TZOFFSETFROM:+0200
TZOFFSETTO:+0100
TZNAME:CET
END:STANDARD
END:VTIMEZONE
END:VCALENDAR