BEGIN:VCALENDAR
VERSION:2.0
PRODID:-//wp-events-plugin.com//7.2.3.1//EN
TZID:Europe/Berlin
X-WR-TIMEZONE:Europe/Berlin
BEGIN:VEVENT
UID:0-517@sgdu-mbh.de
DTSTART;TZID=Europe/Berlin:20250423T180000
DTEND;TZID=Europe/Berlin:20250423T210000
DTSTAMP:20251203T140309Z
URL:https://sgdu-mbh.de/veranstaltungen/urofokus-bremen/
SUMMARY:Urofokus Bremen "Uro meets Gyn - Genitalangleichende Operationen"
DESCRIPTION:Urofokus Bremen\n"Uro meets Gyn - Genitalangleichende Operation
 en"\nEs erwarten Sie interessante Fachvorträgen mit anschließenden Disku
 ssionen.\nProgramm\n18:00 – 18:15 Uhr Begrüßung\nModeration: Dr. Alexa
 nder Fehling BvDU\, Dr. Kerstin Schwarzer BVF\n\n18:15 bis 19:00 Uhr Vortr
 ag Teil 1\n„Genitalangleichende Operation – Frau zu Mann“\nReferenti
 n: Dr. med. Silke Riechardt\, Itzehoe (Honorar: € 1.800\,-)\n\n19:00 Uhr
  – 19:05 Uhr Diskussion\nModeration: Dr. Kerstin Schwarzer BVF\n\n19:05 
 – 19:50 Uhr Vortrag Teil 2\n„Genitalangleichende Operation – Mann zu
  Frau –\nProstatakrebs\, Früherkennung bei TransPersonen“\nReferentin
 : Dr. med. Silke Riechardt\n\n19:50 Uhr – 20:15 Uhr Diskussion\nModerati
 on: Dr. Alexander Fehling BvDU\n\n20:15 – 21:00 Uhr\nabschließendes kol
 legiales Get together in der Industrieausstellung\n\n[sdm_download id="103
 18" fancy="0"]\nAnmeldung\n\n&nbsp\;\n\n\n\nMit freundlicher Unterstützun
 g von: 
CATEGORIES:Ärztinnen &amp; Ärzte
LOCATION:Rotes Kreuz Krankenhaus Bremen gGmbH | Forum K\, St.-Pauli-Deich 2
 4\, Bremen\, 28199\, Deutschland
GEO:53.069098;8.802123
X-APPLE-STRUCTURED-LOCATION;VALUE=URI;X-ADDRESS=St.-Pauli-Deich 24\, Bremen
 \, 28199\, Deutschland;X-APPLE-RADIUS=100;X-TITLE=Rotes Kreuz Krankenhaus 
 Bremen gGmbH | Forum K:geo:53.069098,8.802123
END:VEVENT
BEGIN:VTIMEZONE
TZID:Europe/Berlin
X-LIC-LOCATION:Europe/Berlin
BEGIN:DAYLIGHT
DTSTART:20250330T030000
TZOFFSETFROM:+0100
TZOFFSETTO:+0200
TZNAME:CEST
END:DAYLIGHT
END:VTIMEZONE
END:VCALENDAR