BEGIN:VCALENDAR
VERSION:2.0
PRODID:-//wp-events-plugin.com//7.2.3.1//EN
TZID:Europe/Berlin
X-WR-TIMEZONE:Europe/Berlin
BEGIN:VEVENT
UID:0-134@sgdu-mbh.de
DTSTART;TZID=Europe/Berlin:20191113T163000
DTEND;TZID=Europe/Berlin:20191113T190000
DTSTAMP:20191105T115153Z
URL:https://sgdu-mbh.de/veranstaltungen/therapie-des-prostatacarcinoms-pal
 liativ-und-suppoertivtherapie/
SUMMARY:Therapie des Prostatacarcinoms / Palliativ- und Supportivtherapie (
 MFA)
DESCRIPTION:						
CATEGORIES:Medizinische Fachangestellte,Onkologie
LOCATION:Holstenhallen Neumünster\, Justus-von-Liebig-Straße 2-4\, Neumü
 nster\, 24537\, Deutschland
X-APPLE-STRUCTURED-LOCATION;VALUE=URI;X-ADDRESS=Justus-von-Liebig-Straße 2
 -4\, Neumünster\, 24537\, Deutschland;X-APPLE-RADIUS=100;X-TITLE=Holstenh
 allen Neumünster:geo:0,0
END:VEVENT
BEGIN:VTIMEZONE
TZID:Europe/Berlin
X-LIC-LOCATION:Europe/Berlin
BEGIN:STANDARD
DTSTART:20191027T020000
TZOFFSETFROM:+0200
TZOFFSETTO:+0100
TZNAME:CET
END:STANDARD
END:VTIMEZONE
END:VCALENDAR