BEGIN:VCALENDAR
VERSION:2.0
PRODID:-//wp-events-plugin.com//7.2.3.1//EN
TZID:Europe/Berlin
X-WR-TIMEZONE:Europe/Berlin
BEGIN:VEVENT
UID:0-121@sgdu-mbh.de
DTSTART;TZID=Europe/Berlin:20190522T090000
DTEND;TZID=Europe/Berlin:20190522T170000
DTSTAMP:20190416T092550Z
URL:https://sgdu-mbh.de/veranstaltungen/stuttgart-zertifizierter-grundkurs
 -impfen-fuer-urologen-3/
SUMMARY:Stuttgart: Zertifizierter Grundkurs Impfen für Urologen
DESCRIPTION:Nicht nur die HPV-Impfung ist interessant für urologische Prax
 en\, sondern auch andere\, fachgebietsübergreifende Impfungen\, die dem S
 chutz der Bevölkerung dienen. Diesbezüglich müssen Urologinnen und Urol
 ogen\, die Impfungen in ihrer Praxis anbieten wollen\, nicht nur die recht
 liche Hintergründe\, die Empfehlungen der Ständigen Impfkommission (STIK
 O) und die notwendige Impfdokumentation kennen\, sondern auch über Impfre
 aktionen\, -komplikationen\, Impfungen bei chronisch Kranken\, Immundeffiz
 ienten und weiteres informiert sein.\n\nInsofern dient dieser Kurs der Erh
 öhung der Fachkompetenz und nicht zuletzt auch der Qualitätssicherung.\n
 \nCME-Punkte werden bei der zuständigen Ärztekammer beantragt.\nMit freu
 ndlicher Unterstützung von: \n\nAnmeldung\nAnmeldung unter: https://swdgu
 .de/2019/urologenkongress2019-kongressanmeldung.php
CATEGORIES:Ärztinnen &amp; Ärzte,Impfen
LOCATION:Kultur- und Kongresszentrum Liederhalle\, Berliner Platz 1-3\, Stu
 ttgart\, Baden-Württemberg\, 70174\, Stuttgart\, Deutschland
GEO:48.7789939;9.1697692
X-APPLE-STRUCTURED-LOCATION;VALUE=URI;X-ADDRESS=Berliner Platz 1-3\, Stuttg
 art\, Baden-Württemberg\, 70174\, Stuttgart\, Deutschland;X-APPLE-RADIUS=
 100;X-TITLE=Kultur- und Kongresszentrum Liederhalle:geo:48.7789939,9.16976
 92
END:VEVENT
BEGIN:VTIMEZONE
TZID:Europe/Berlin
X-LIC-LOCATION:Europe/Berlin
BEGIN:DAYLIGHT
DTSTART:20190331T030000
TZOFFSETFROM:+0100
TZOFFSETTO:+0200
TZNAME:CEST
END:DAYLIGHT
END:VTIMEZONE
END:VCALENDAR