BEGIN:VCALENDAR
VERSION:2.0
PRODID:-//wp-events-plugin.com//7.2.3.1//EN
TZID:Europe/Berlin
X-WR-TIMEZONE:Europe/Berlin
BEGIN:VEVENT
UID:0-186@sgdu-mbh.de
DTSTART;TZID=Europe/Berlin:20200815T090000
DTEND;TZID=Europe/Berlin:20200815T140000
DTSTAMP:20200903T071247Z
URL:https://sgdu-mbh.de/veranstaltungen/sgdu-fachgespraech-sankt-peter-ord
 ing-2/
SUMMARY:NEUER TERMIN: SgDU-Fachgespräch Sankt Peter-Ording
DESCRIPTION:Thematisch geht es bei diesem SgDU-Fachgespräch u.a. um Wechse
 lwirkungen und Nebenwirkungen in der medikamentösen Therapie des Prostata
 karzinoms\, um Blasentumore\, Leitlinien und Versorgungsforschung. Bitte e
 ntnehmen Sie das detaillierte Programm nachfolgendem Download.\n\nProgramm
 \n\n[ddownload id="7460" text="Programm zum Mitnehmen"]\n\nAnmeldung\n\n\n
 \nSponsoren\n\nFolgende Partner tragen zum guten Gelingen dieser Veranstal
 tung bei:\n\n[su_row][su_column size="1/4" center="no"]\n\n[caption id="" 
 align="alignnone" width="195" class="sponsoring"] 700\,00 EUR für Stand u
 nd Werbemaßnahmen[/caption]\n\n[/su_column][su_column size="1/4" center="
 no"]\n\n[caption id="" align="alignnone" width="195" class="sponsoring"]1.
 000\,00 EUR für Stand und Werbemaßnahmen[/caption]\n\n[su_column size="1
 /4" center="no"]\n\n[/su_column][su_column size="1/4" center="no"]\n\n[cap
 tion class="sponsoring" align="alignnone" width="195"] 500\,00 EUR für St
 and und Werbemaßnahmen[/caption]\n\n[/su_column][su_column size="1/4" cen
 ter="no"]\n\n[caption class="sponsoring" align="alignnone" width="195"] 50
 0\,00 EUR für Stand und Werbemaßnahmen[/caption]\n\n[/su_column][/su_row
 ]\n[su_row][su_column size="1/4" center="no"]\n\n[caption class="sponsorin
 g" align="alignnone" width="195"] 1.000\,00 EUR für Stand und Werbemaßna
 hmen[/caption]\n\n[/su_column][su_column size="1/4" center="no"]\n\n[capti
 on class="sponsoring" align="alignnone" width="195"] 750\,00 EUR für Stan
 d und Werbemaßnahmen[/caption]\n\n[/su_column][su_column size="1/4" cente
 r="no"]\n\n[caption id="" align="alignnone" width="195" class="sponsoring"
 ] 1.250\,00 EUR für Stand und Werbemaßnahmen[/caption]\n\n[/su_column][s
 u_column size="1/4" center="no"]\n\n&nbsp\;\n\n[/su_column][/su_row]\n\n
CATEGORIES:Ärztinnen &amp; Ärzte,Sonstiges
LOCATION:Klinik Nordfriesland\, Wohldweg 9\, Sankt Peter-Ording\, Schleswig
 -Holstein\, 25826\, Nordfriesland\, Deutschland
GEO:54.2983;8.654024
X-APPLE-STRUCTURED-LOCATION;VALUE=URI;X-ADDRESS=Wohldweg 9\, Sankt Peter-Or
 ding\, Schleswig-Holstein\, 25826\, Nordfriesland\, Deutschland;X-APPLE-RA
 DIUS=100;X-TITLE=Klinik Nordfriesland:geo:54.2983,8.654024
END:VEVENT
BEGIN:VTIMEZONE
TZID:Europe/Berlin
X-LIC-LOCATION:Europe/Berlin
BEGIN:DAYLIGHT
DTSTART:20200329T030000
TZOFFSETFROM:+0100
TZOFFSETTO:+0200
TZNAME:CEST
END:DAYLIGHT
END:VTIMEZONE
END:VCALENDAR