BEGIN:VCALENDAR
VERSION:2.0
PRODID:-//wp-events-plugin.com//7.2.3.1//EN
TZID:Europe/Berlin
X-WR-TIMEZONE:Europe/Berlin
BEGIN:VEVENT
UID:0-545@sgdu-mbh.de
DTSTART;TZID=Europe/Berlin:20251204T193000
DTEND;TZID=Europe/Berlin:20251204T223000
DTSTAMP:20251204T103613Z
URL:https://sgdu-mbh.de/veranstaltungen/sgdu-fachgespraech-qz-kiel-3/
SUMMARY:SgDU-Fachgespräch QZ Kiel
DESCRIPTION:Herzlich laden wir Sie hiermit zu unserem nächsten Qualitätsz
 irkel Urologie in den Ratskeller Kiel ein.\nTermin\nDonnerstag\, 04.12.202
 5\, 19:30 Uhr\nTagesordnung:\n\n 	Begrüßung\nSebastian Bach\n 	Vortrag m
 it anschließender Diskussion\n"Neue Therapieoptiomen beim mCRPC"\nProf. D
 r. med. Thomas Steuber\nMartini Klinik Universitätsklinik Hamburg-Eppendo
 rf (UKE)\n\nAnmeldung:\n﻿\nFolgende Partner tragen zum guten Gelingen di
 eser Veranstaltung bei:\n[su_row][su_column size="1/4" center="no"]\n\n\n1
 .500\,00 EUR für Werbemaßnamen\n\n[/su_column][su_column size="1/4" cent
 er="no"]\n\n\n1.000\,00 EUR für Werbemaßnamen\n\n[/su_column][su_column 
 size="1/4" center="no"]\n\n\n1.000\,00 EUR für Werbemaßnamen\n\n[/su_col
 umn][su_column size="1/4" center="no"]\n\n\n1.000\,00 EUR für Werbemaßna
 men\n\n[/su_column]\n[/su_row]
CATEGORIES:Ärztinnen &amp; Ärzte,Qualitätszirkel
LOCATION:Ratskeller Kiel\, Fleethörn 9\, Kiel\, Schleswig-Holstein\, 24103
 \, Deutschland
GEO:54.322352;10.132973
X-APPLE-STRUCTURED-LOCATION;VALUE=URI;X-ADDRESS=Fleethörn 9\, Kiel\, Schle
 swig-Holstein\, 24103\, Deutschland;X-APPLE-RADIUS=100;X-TITLE=Ratskeller 
 Kiel:geo:54.322352,10.132973
END:VEVENT
BEGIN:VTIMEZONE
TZID:Europe/Berlin
X-LIC-LOCATION:Europe/Berlin
BEGIN:STANDARD
DTSTART:20251026T020000
TZOFFSETFROM:+0200
TZOFFSETTO:+0100
TZNAME:CET
END:STANDARD
END:VTIMEZONE
END:VCALENDAR