BEGIN:VCALENDAR
VERSION:2.0
PRODID:-//wp-events-plugin.com//7.2.3.1//EN
TZID:Europe/Berlin
X-WR-TIMEZONE:Europe/Berlin
BEGIN:VEVENT
UID:0-406@sgdu-mbh.de
DTSTART;TZID=Europe/Berlin:20231204T190000
DTEND;TZID=Europe/Berlin:20231204T210000
DTSTAMP:20231208T151746Z
URL:https://sgdu-mbh.de/veranstaltungen/sgdu-fachgespraech-hamburg-qualita
 etszirkel-suederelbe-4/
SUMMARY:SgDU-Fachgespräch Hamburg - Qualitätszirkel Süderelbe
DESCRIPTION:Die SgDU Servicegesellschaft der Deutschen Urologie mbH lädt S
 ie zu dieser Veranstaltung mit interessantem Fachvortrag und anschließend
 er Diskussion ein.\nThema:Best of Uro-Onkologie\nReferent:\nProf. Dr. Chri
 stian Wülfing\nWissenschaftliche Leitung:\nnn\nVeranstaltungsort\nLandhau
 s Flottbeck\nBaron-Voght-Straße 179\n20607 Hamburg\nAnmeldung\n[show_more
  color="#387259" more="Hier jetzt anmelden" less="Anmeldung schließen"]\n
 ﻿\n[/show_more]\nFolgende Partner tragen zum guten Gelingen dieser Veran
 staltung bei:\n[su_row][su_column size="1/4" center="no"]\n\n500\,00 EUR\n
 [/su_column][su_column size="1/4" center="no"]\n\n\n1250\,00 EUR\n\n[/su_c
 olumn][su_column size="1/4" center="no"]\n\n\n1000\,00 EUR\n\n[/su_column]
 [su_column size="1/4" center="no"]\n\n\n\n1000\,00 EUR\n\n[/su_column][/su
 _row]\n[su_row][su_column size="1/4" center="no"]\n\n&nbsp\;\n\n[/su_colum
 n][su_column size="1/4" center="no"]\n\n&nbsp\;\n\n[/su_column][su_column 
 size="1/4" center="no"]\n\n&nbsp\;\n\n[/su_column][su_column size="1/4" ce
 nter="no"]\n\n&nbsp\;\n\n[/su_column][/su_row]
CATEGORIES:Ärztinnen &amp; Ärzte
LOCATION:Landhaus Flottbek\, Baron-Voght-Straße 179\, Hamburg\, Hamburg\, 
 22607\, Deutschland
GEO:53.56529;9.874823
X-APPLE-STRUCTURED-LOCATION;VALUE=URI;X-ADDRESS=Baron-Voght-Straße 179\, H
 amburg\, Hamburg\, 22607\, Deutschland;X-APPLE-RADIUS=100;X-TITLE=Landhaus
  Flottbek:geo:53.56529,9.874823
END:VEVENT
BEGIN:VTIMEZONE
TZID:Europe/Berlin
X-LIC-LOCATION:Europe/Berlin
BEGIN:STANDARD
DTSTART:20231029T020000
TZOFFSETFROM:+0200
TZOFFSETTO:+0100
TZNAME:CET
END:STANDARD
END:VTIMEZONE
END:VCALENDAR