BEGIN:VCALENDAR
VERSION:2.0
PRODID:-//wp-events-plugin.com//7.2.3.1//EN
TZID:Europe/Berlin
X-WR-TIMEZONE:Europe/Berlin
BEGIN:VEVENT
UID:0-404@sgdu-mbh.de
DTSTART;TZID=Europe/Berlin:20230424T190000
DTEND;TZID=Europe/Berlin:20230424T210000
DTSTAMP:20230303T102805Z
URL:https://sgdu-mbh.de/veranstaltungen/sgdu-fachgespraech-hamburg-qualita
 etszirkel-suederelbe-2/
SUMMARY:SgDU-Fachgespräch Hamburg - Qualitätszirkel Süderelbe
DESCRIPTION:Die SgDU Servicegesellschaft der Deutschen Urologie mbH lädt S
 ie zu dieser Veranstaltung mit interessantem Fachvortrag und anschließend
 er Diskussion ein.\nThema: Wird noch bekanntgegeben\nReferent:\nnn\nWissen
 schaftliche Leitung:\nnn\nVeranstaltungsort\nLandhaus Flottbeck\nBaron-Vog
 ht-Straße 179\n20607 Hamburg\nAnmeldung\n[show_more color="#387259" more=
 "Hier jetzt anmelden" less="Anmeldung schließen"]\n﻿\n[/show_more]\nFol
 gende Partner tragen zum guten Gelingen dieser Veranstaltung bei:\n[su_row
 ][su_column size="1/4" center="no"]\n\n\n\n[/su_column][su_column size="1/
 4" center="no"]\n\n\n\n[/su_column][su_column size="1/4" center="no"]\n\n\
 n\n[/su_column][su_column size="1/4" center="no"]\n\n\n\n[/su_column][/su_
 row]\n[su_row][su_column size="1/4" center="no"]\n\n\n\n[/su_column][su_co
 lumn size="1/4" center="no"]\n\n&nbsp\;\n\n[/su_column][su_column size="1/
 4" center="no"]\n\n&nbsp\;\n\n[/su_column][su_column size="1/4" center="no
 "]\n\n&nbsp\;\n\n[/su_column][/su_row]
CATEGORIES:Ärztinnen &amp; Ärzte
LOCATION:Landhaus Flottbek\, Baron-Voght-Straße 179\, Hamburg\, Hamburg\, 
 22607\, Deutschland
GEO:53.56529;9.874823
X-APPLE-STRUCTURED-LOCATION;VALUE=URI;X-ADDRESS=Baron-Voght-Straße 179\, H
 amburg\, Hamburg\, 22607\, Deutschland;X-APPLE-RADIUS=100;X-TITLE=Landhaus
  Flottbek:geo:53.56529,9.874823
END:VEVENT
BEGIN:VTIMEZONE
TZID:Europe/Berlin
X-LIC-LOCATION:Europe/Berlin
BEGIN:DAYLIGHT
DTSTART:20230326T030000
TZOFFSETFROM:+0100
TZOFFSETTO:+0200
TZNAME:CEST
END:DAYLIGHT
END:VTIMEZONE
END:VCALENDAR