BEGIN:VCALENDAR
VERSION:2.0
PRODID:-//wp-events-plugin.com//7.2.3.1//EN
TZID:Europe/Berlin
X-WR-TIMEZONE:Europe/Berlin
BEGIN:VEVENT
UID:0-561@sgdu-mbh.de
DTSTART;TZID=Europe/Berlin:20260519T183000
DTEND;TZID=Europe/Berlin:20260519T190000
DTSTAMP:20260420T155710Z
URL:https://sgdu-mbh.de/veranstaltungen/sgdu-fachgespraech-berlin-8/
SUMMARY:SgDU-Fachgespräch | Berlin
DESCRIPTION:Vortrag: „Neue Entwicklungen zum muskelinvasiven Urothelkarzi
 nom (MIUC)“\nReferentin\nPD Dr. med. Kaven Baeßler\n(Zentrumsleiterin -
  Berliner Beckenbodenzentrum\, Franziskus-Krankenhaus Berlin) angefragt\nV
 ortrag: „Update Prostatakarzinom“\nReferent\nPD Dr. med. Carsten Kempk
 ensteffen\n(Chefarzt Urologie Franziskus-Krankenhaus)\nanschließend Disku
 ssion und Fallbesprechungen\n\nWissenschaftliche Leitung\nDr. Sulafah El-K
 hadra\nAnmeldung\n﻿﻿\n\n&nbsp\;
CATEGORIES:Ärztinnen &amp; Ärzte,Fachgespräch
LOCATION:Franziskus-Krankenhaus\, Budapester Straße 15-19\, Berlin\, Berli
 n\, 10787\, Deutschland
GEO:52.506031;13.345056
X-APPLE-STRUCTURED-LOCATION;VALUE=URI;X-ADDRESS=Budapester Straße 15-19\, 
 Berlin\, Berlin\, 10787\, Deutschland;X-APPLE-RADIUS=100;X-TITLE=Franzisku
 s-Krankenhaus:geo:52.506031,13.345056
END:VEVENT
BEGIN:VTIMEZONE
TZID:Europe/Berlin
X-LIC-LOCATION:Europe/Berlin
BEGIN:DAYLIGHT
DTSTART:20260329T030000
TZOFFSETFROM:+0100
TZOFFSETTO:+0200
TZNAME:CEST
END:DAYLIGHT
END:VTIMEZONE
END:VCALENDAR