BEGIN:VCALENDAR
VERSION:2.0
PRODID:-//wp-events-plugin.com//7.2.3.1//EN
TZID:Europe/Berlin
X-WR-TIMEZONE:Europe/Berlin
BEGIN:VEVENT
UID:0-392@sgdu-mbh.de
DTSTART;TZID=Europe/Berlin:20221115T190000
DTEND;TZID=Europe/Berlin:20221115T193000
DTSTAMP:20221111T115412Z
URL:https://sgdu-mbh.de/veranstaltungen/sgdu-fachgespraech-berlin-2/
SUMMARY:SgDU-Fachgespräch Berlin
DESCRIPTION:Die SgDU Servicegesellschaft der Deutschen Urologie mbH lädt S
 ie zu interessanten Fachvorträgen und anschließender Diskussion ein.\nTh
 emen\n\n 	Blutbasierte HPV Diagnostik „Früherkennung leicht gemacht“\
 nReferent: Dr. Ralf Hilfrich\n 	Molekulargenetische Diagnostik in der urol
 ogischen Praxis\nReferent: Dr. Benjamin Lorch\n\nWir freuen uns auf Ihre T
 eilnahme.\nAnmeldung\n[show_more color="#387259" more="Jetzt registrieren!
 " less="Registrierung schließen"]\n\n﻿\n\n[/show_more]\n\n&nbsp\;\n\nFo
 lgende Partner tragen zum guten Gelingen dieser Veranstaltung bei:\n\n[su_
 row][su_column size="1/4" center="no"]\n\n[caption id="" align="alignnone"
  width="195" class="sponsoring"] 1.000\,00 EUR für Werbemaßnahmen[/capti
 on]\n\n[/su_column][su_column size="1/4" center="no"]\n\n[caption id="" al
 ign="alignnone" width="195" class="sponsoring"] 1.000\,00 EUR für Werbema
 ßnahmen[/caption]\n\n[/su_column][su_column size="1/4" center="no"]\n\n[c
 aption id="" align="alignnone" width="195" class="sponsoring"] 1.000\,00 E
 UR für Werbemaßnahmen[/caption]\n\n[/su_column][su_column size="1/4" cen
 ter="no"]\n\n[caption id="" align="alignnone" width="195" class="sponsorin
 g"] 800\,00 EUR für Werbemaßnahmen[/caption]\n\n[/su_column][/su_row]\n\
 n[su_row][su_column size="1/4" center="no"]\n\n[caption id="" align="align
 none" width="195" class="sponsoring"] 800\,00 EUR für Werbemaßnahmen[/ca
 ption]\n\n[/su_column][su_column size="1/4" center="no"]\n\n[caption id=""
  align="alignnone" width="195" class="sponsoring"] 700\,00 EUR für Werbem
 aßnahmen[/caption]\n\n[/su_column][su_column size="1/4" center="no"]\n\n&
 nbsp\;\n\n[/su_column][su_column size="1/4" center="no"]\n\n&nbsp\;\n\n[/s
 u_column][/su_row]
CATEGORIES:Ärztinnen &amp; Ärzte
LOCATION:HABEL Weinkultur & Restaurant am Reichstag\, Luisenstraße 19\, Be
 rlin\, Berlin\, 10117\, Deutschland
GEO:52.521685;13.379545
X-APPLE-STRUCTURED-LOCATION;VALUE=URI;X-ADDRESS=Luisenstraße 19\, Berlin\,
  Berlin\, 10117\, Deutschland;X-APPLE-RADIUS=100;X-TITLE=HABEL Weinkultur 
 & Restaurant am Reichstag:geo:52.521685,13.379545
END:VEVENT
BEGIN:VTIMEZONE
TZID:Europe/Berlin
X-LIC-LOCATION:Europe/Berlin
BEGIN:STANDARD
DTSTART:20221030T020000
TZOFFSETFROM:+0200
TZOFFSETTO:+0100
TZNAME:CET
END:STANDARD
END:VTIMEZONE
END:VCALENDAR