BEGIN:VCALENDAR
VERSION:2.0
PRODID:-//wp-events-plugin.com//7.2.3.1//EN
TZID:Europe/Berlin
X-WR-TIMEZONE:Europe/Berlin
BEGIN:VEVENT
UID:0-159@sgdu-mbh.de
DTSTART;TZID=Europe/Berlin;VALUE=DATE:20200918
DTEND;TZID=Europe/Berlin;VALUE=DATE:20200920
DTSTAMP:20191202T084607Z
URL:https://sgdu-mbh.de/veranstaltungen/qualifizierungskurs-zur-hygiene-un
 d-der-aufbereitung-von-medizinprodukten-mfa-8/
SUMMARY:MFAWissen: Qualifizierungskurs zur Hygiene und der Aufbereitung von
  Medizinprodukten
DESCRIPTION:						
CATEGORIES:Aufbereitung von Medizinprodukten,Hygiene,Medizinische
 Fachangestellte
LOCATION:IntercityHotel München\, Bayerstraße 10\, München\, Bayern\, 80
 335\, Deutschland
GEO:48.1395175;11.5596383
X-APPLE-STRUCTURED-LOCATION;VALUE=URI;X-ADDRESS=Bayerstraße 10\, München\
 , Bayern\, 80335\, Deutschland;X-APPLE-RADIUS=100;X-TITLE=IntercityHotel M
 ünchen:geo:48.1395175,11.5596383
END:VEVENT
BEGIN:VTIMEZONE
TZID:Europe/Berlin
X-LIC-LOCATION:Europe/Berlin
BEGIN:DAYLIGHT
DTSTART:20200329T030000
TZOFFSETFROM:+0100
TZOFFSETTO:+0200
TZNAME:CEST
END:DAYLIGHT
END:VTIMEZONE
END:VCALENDAR