BEGIN:VCALENDAR
VERSION:2.0
PRODID:-//wp-events-plugin.com//7.2.3.1//EN
TZID:Europe/Berlin
X-WR-TIMEZONE:Europe/Berlin
BEGIN:VEVENT
UID:0-151@sgdu-mbh.de
DTSTART;TZID=Europe/Berlin;VALUE=DATE:20191207
DTEND;TZID=Europe/Berlin;VALUE=DATE:20191209
DTSTAMP:20191105T115153Z
URL:https://sgdu-mbh.de/veranstaltungen/qualifikationskurs-hygienebeauftra
 gter-arzt-fuer-niedergelassene-4/
SUMMARY:Qualifikationskurs „Hygienebeauftragter Arzt“ für Niedergelass
 ene
DESCRIPTION:In allen Bundesländern besteht gemäß Verordnung zur „Hygie
 ne und Infektionsprävention in medizinischen Einrichtungen“ (HygMedVO) 
 die Qualifikationsverpflichtung zum „Hygienebeauftragten Arzt“ für am
 bulant operierende Einrichtungen. Für Praxen mit invasiven Eingriffen (al
 so für alle endoskopierenden Praxen) besteht diese Verpflichtung nur in e
 inigen KV-Bereichen (z.B. in Nordrhein-Westfalen). \n\nDiese Kurse bedürf
 en der Anerkennung durch eine Landesärztekammer und setzen grundsätzlich
  eine Kursdauer von 40 Stunden\, also eine ganze Arbeitswoche\, voraus.\n\
 nDie Idee unseres industrieunabhängigen Kurses ist es\, den zeitlichen Ra
 hmen der Präsenz auf ein Wochenende einzugrenzen und die Kursinhalte auf 
 die Praxis zu fokussieren.\n\nDer Kurs besteht aus einer Präsenzveranstal
 tung und einem Selbststudium einschließlich Lernerfolgskontrolle mit Hilf
 e einer Online-Lernplattform\, einer Seminarbroschüre und einem USB-Stick
  mit einer umfangreichen Literatur-Datenbank.\n\nDieser entspricht dem Mod
 ul 1 des BÄK-Curriculums „Krankenhaushygiene“ und ist von der Landes
 ärztekammer Nordrhein anerkannt (damit „behördentauglich“).\n\nWeite
 re Infos & Anmeldung\nBitte entnehmen Sie alle weiteren Informationen dem 
 Flyer:\n\n[ddownload id="7071"]\n\n
CATEGORIES:Ärztinnen &amp; Ärzte,Hygiene
LOCATION:KV Nordrhein\, Bezirksstelle\, Sedanstraße 10\, Köln\, Nordrhein
 -Westfalen\, 50668\, Deutschland
GEO:50.9516287;6.9628558
X-APPLE-STRUCTURED-LOCATION;VALUE=URI;X-ADDRESS=Sedanstraße 10\, Köln\, N
 ordrhein-Westfalen\, 50668\, Deutschland;X-APPLE-RADIUS=100;X-TITLE=KV Nor
 drhein\, Bezirksstelle:geo:50.9516287,6.9628558
END:VEVENT
BEGIN:VTIMEZONE
TZID:Europe/Berlin
X-LIC-LOCATION:Europe/Berlin
BEGIN:STANDARD
DTSTART:20191027T020000
TZOFFSETFROM:+0200
TZOFFSETTO:+0100
TZNAME:CET
END:STANDARD
END:VTIMEZONE
END:VCALENDAR