BEGIN:VCALENDAR
VERSION:2.0
PRODID:-//wp-events-plugin.com//7.2.3.1//EN
TZID:Europe/Berlin
X-WR-TIMEZONE:Europe/Berlin
BEGIN:VEVENT
UID:0-196@sgdu-mbh.de
DTSTART;TZID=Europe/Berlin;VALUE=DATE:20201121
DTEND;TZID=Europe/Berlin;VALUE=DATE:20201123
DTSTAMP:20210224T123156Z
URL:https://sgdu-mbh.de/veranstaltungen/praxisgruendungsseminar-neu-ulm-4/
SUMMARY:Praxisgründungsseminar | Neu-Ulm
DESCRIPTION:Das zweitägige Seminar soll Ihnen eine Hilfestellung beim Aufb
 au Ihrer neuen Praxis geben. \n\nDie Themen sind so ausgewählt\, dass Sie
  einen maximalen Praxisbezug zu Ihrem Arbeitsalltag haben. Die „theoreti
 schen“ Ausführungen von Frau Kapahnke werden dafür durch „praktische
 “ Umsetzungsbeispiele durch Herrn Prof. Dr. Rinnab ergänzt\, in dessen 
 Praxis das Seminar stattfindet.\n\nInhalte:\n\n	Die wirtschaftlichen Grund
 lagen der Praxisführung\n\n\n	Mögliche Entwicklungsszenarien im Gesundhe
 itsbereich und Auswirkungen für Ihre Praxis\n	Die Rolle der KV\n	Aufbau d
 er GKV-Abrechnung in Bayern & Baden-Württemberg\n	IGeL-Leistungen\n	Verme
 idung von Wirtschaftlichkeitsprüfungen im Honorar- und Arzneimittelbereic
 h\n	Aufbau der GOÄ-Abrechnung\n\nUmsetzung in der Praxis\n\n	Organisation
  einer „papierlosen“ Praxis\n	Ermittlung statistischer Daten in der ED
 V\n	Marketingstrategien\n	Entwicklung\, Umsetzung und Modifikation eines M
 arketingkonzeptes\n\n	Analyse\n\n        Soweit Sie bereits eine Abrechnun
 g Ihrer KV haben\, können Sie diese mitbringen und von Frau Kapahnke prü
 fen lassen.\n\n\nVeranstaltungsort:\nPraxis Prof. Dr. med. Ludwig Rinnab\n
 Augsburger Str. 6\, Im Ärztehaus A4\, 89231 Neu-Ulm\nwww.dr-rinnab.de\n\n
 Referenten:\nProf. Dr. Ludwig Rinnab (Vita&raquo\;)\nLudmilla Kapahnke (Dr
 . Pfleger Arzneimittel GmbH)\n\nTeilnahmegebühr\n350\,00 Euro inkl. MwSt.
 \n\nUnterkunft:\nBei Bedarf haben wir für Sie ein Abrufkontingent - unter
  dem Stichwort „Praxisgründungs-Seminar“ - im RiKu Hotel reserviert. 
 Das Zimmer müssen Sie vor Ort bitte selbst bezahlen.\n\nRiKu Hotel Neu-Ul
 m\nMaximilianstraße 4\n89231 Neu-Ulm\nTel.. 07 31 - 98 09 41 50\nMit freu
 ndlicher Unterstützung von: \n\nAnmeldung:\n\n\n
CATEGORIES:Ärztinnen &amp; Ärzte
LOCATION:Praxis Prof. Dr. med. Ludwig Rinnab | Im Ärztehaus A4\, Augsburge
 r Str. 6\, Neu-Ulm\, 89231\, Deutschland
GEO:48.39507039999999;9.999356700000021
X-APPLE-STRUCTURED-LOCATION;VALUE=URI;X-ADDRESS=Augsburger Str. 6\, Neu-Ulm
 \, 89231\, Deutschland;X-APPLE-RADIUS=100;X-TITLE=Praxis Prof. Dr. med. Lu
 dwig Rinnab | Im Ärztehaus A4:geo:48.39507039999999,9.999356700000021
END:VEVENT
BEGIN:VTIMEZONE
TZID:Europe/Berlin
X-LIC-LOCATION:Europe/Berlin
BEGIN:STANDARD
DTSTART:20201025T020000
TZOFFSETFROM:+0200
TZOFFSETTO:+0100
TZNAME:CET
END:STANDARD
END:VTIMEZONE
END:VCALENDAR