BEGIN:VCALENDAR
VERSION:2.0
PRODID:-//wp-events-plugin.com//7.2.3.1//EN
TZID:Europe/Berlin
X-WR-TIMEZONE:Europe/Berlin
BEGIN:VEVENT
UID:0-516@sgdu-mbh.de
DTSTART;TZID=Europe/Berlin;VALUE=DATE:20251011
DTEND;TZID=Europe/Berlin;VALUE=DATE:20251013
DTSTAMP:20250730T074111Z
URL:https://sgdu-mbh.de/veranstaltungen/praxisgruendungsseminar-neu-ulm-12
 /
SUMMARY:Praxisgründungsseminar | Neu-Ulm
DESCRIPTION:Das zweitägige Seminar soll Ihnen eine Hilfestellung beim Aufb
 au Ihrer neuen Praxis geben. Die Themen sind so ausgewählt\, dass Sie ein
 en maximalen Praxisbezug zu Ihrem Arbeitsalltag im Einzugsbereich der KVen
  Baden-Württemberg und Bayern haben.\n\nDie „theoretischen“ Ausführu
 ngen von Frau Kapahnke werden dafür durch „praktische“ Umsetzungsbeis
 piele durch Herrn Prof. Dr. Rinnab ergänzt\, in dessen Praxis das Seminar
  stattfindet.\nInhalte\nI. Die wirtschaftlichen Grundlagen der Praxisführ
 ung\n\n 	Mögliche Entwicklungsszenarien im Gesundheitsbereich und Auswirk
 ungen für Ihre Praxis\n 	Die Rolle der KV\n 	Aufbau der GKV-Abrechnung in
  Baden-Württemberg und Bayern\n 	IGeL-Leistungen\n 	Vermeidung von Wirtsc
 haftlichkeitsprüfungen im Honorar- und Arzneimittelbereich\n 	Aufbau der 
 GOÄ-Abrechnung\n\nII. Umsetzung in der Praxis\n\n 	Organisation einer „
 papierlosen“ Praxis\n 	Ermittlung statistischer Daten in der EDV\n 	Mark
 etingstrategien\n 	Entwicklung\, Umsetzung und Modifikation eines Marketin
 gkonzeptes\n\nVeranstaltungsort:\nPraxis Prof. Dr. med. Ludwig Rinnab\nAug
 sburger Str. 6\, Im Ärztehaus A4\, 89231 Neu-Ulm\nwww.dr-rinnab.de\nRefer
 enten:\nProf. Dr. Ludwig Rinnab (Vita»)\nLudmilla Kapahnke (Dr. Pfleger)\
 , Tel.: 0163 604 30 46\nTeilnahmegebühr\n416\,50 Euro inkl. MwSt.\nUnterk
 unft:\nFür den Fall\, dass Sie eine Unterkunft vor Ort benötigen empfehl
 en wir Ihnen das RiKu Hotel. Das Zimmer müssen Sie vor Ort bitte selbst b
 ezahlen.\n\nRiKu Hotel Neu-Ulm\nMaximilianstraße 4\n89231 Neu-Ulm\nTel. 0
 7 31 - 98 09 41 50\n\n[sdm_download id="10313" fancy="0"]\nAnmeldung:\n﻿
 ﻿﻿\n\n\n\nMit freundlicher Unterstützung von: 
CATEGORIES:Ärztinnen &amp; Ärzte,Praxis gründen
LOCATION:Praxis Prof. Dr. med. Ludwig Rinnab | Im Ärztehaus A4\, Augsburge
 r Str. 6\, Neu-Ulm\, 89231\, Deutschland
GEO:48.39507039999999;9.999356700000021
X-APPLE-STRUCTURED-LOCATION;VALUE=URI;X-ADDRESS=Augsburger Str. 6\, Neu-Ulm
 \, 89231\, Deutschland;X-APPLE-RADIUS=100;X-TITLE=Praxis Prof. Dr. med. Lu
 dwig Rinnab | Im Ärztehaus A4:geo:48.39507039999999,9.999356700000021
END:VEVENT
BEGIN:VTIMEZONE
TZID:Europe/Berlin
X-LIC-LOCATION:Europe/Berlin
BEGIN:DAYLIGHT
DTSTART:20250330T030000
TZOFFSETFROM:+0100
TZOFFSETTO:+0200
TZNAME:CEST
END:DAYLIGHT
END:VTIMEZONE
END:VCALENDAR