BEGIN:VCALENDAR
VERSION:2.0
PRODID:-//wp-events-plugin.com//7.2.3.1//EN
TZID:Europe/Berlin
X-WR-TIMEZONE:Europe/Berlin
BEGIN:VEVENT
UID:0-163@sgdu-mbh.de
DTSTART;TZID=Europe/Berlin;VALUE=DATE:20200307
DTEND;TZID=Europe/Berlin;VALUE=DATE:20200309
DTSTAMP:20191105T115153Z
URL:https://sgdu-mbh.de/veranstaltungen/praxisgruendungs-seminar-wiesbaden
 -2/
SUMMARY:Praxisgründungs-Seminar Wiesbaden
DESCRIPTION:Das zweitägige Seminar soll Ihnen eine Hilfestellung beim Aufb
 au Ihrer neuen Praxis geben. Die Themen sind so ausgewählt\, dass sie ein
 en maximalen Praxisbezug zu Ihrem Arbeitsalltag haben.\n\nDie „theoretis
 chen“ Ausführungen von Frau Kapahnke werden dafür durch „praktisch
 e“ Umsetzungsbeispiele durch Herrn Dr. Müller ergänzt\, in dessen Pra
 xis das Seminar stattfindet.\n\nTermin\nSamstag\, 07. März von 10.00 bis 
 18.00 Uhr und\nSonntag\, 08. März von 8.30 bis ca. 14.00 Uhr\n\nReferente
 n\nDr. Walter G. Müller (Niedergelassener Urologe)\nLudmilla Kapahnke (D
 r. Pfleger Arzneimittel GmbH)\n\nInhalte\nDie wirtschaftlichen Grundlagen 
 der Praxisführung\n\n	Mögliche Entwicklungsszenarien im Gesundheitsberei
 ch und Auswirkungen für Ihre Praxis\n	Die Rolle der KV\n	Aufbau der GKV-
 Abrechnung in Hessen\, Rheinland-Pfalz & Saarland\n	IGeL-Leistungen\n	Verm
 eidung von Wirtschaftlichkeitsprüfungen im Honorar- und Arzneimittelbere
 ich\n	Aufbau der GOÄ-Abrechnung\n\nUmsetzung in der Praxis\n\n	Organisati
 on einer „papierlosen“ Praxis\n	Ermittlung statistischer Daten in der 
 EDV\n	Marketingstrategien\n	Entwicklung\, Umsetzung und Modifikation eines
  Marketingkonzeptes\n\n\nWeitere Informationen\n\nFolgen in Kürze!\n\nAnm
 eldung\n\n\n
CATEGORIES:Ärztinnen &amp; Ärzte
LOCATION:Urologische Praxis Dr. Walter G. Müller\, Wilhelmstr. 6\, Wiesbad
 en\, 65185\, Deutschland
GEO:50.0785341;8.244754400000033
X-APPLE-STRUCTURED-LOCATION;VALUE=URI;X-ADDRESS=Wilhelmstr. 6\, Wiesbaden\,
  65185\, Deutschland;X-APPLE-RADIUS=100;X-TITLE=Urologische Praxis Dr. Wal
 ter G. Müller:geo:50.0785341,8.244754400000033
END:VEVENT
BEGIN:VTIMEZONE
TZID:Europe/Berlin
X-LIC-LOCATION:Europe/Berlin
BEGIN:STANDARD
DTSTART:20191027T020000
TZOFFSETFROM:+0200
TZOFFSETTO:+0100
TZNAME:CET
END:STANDARD
END:VTIMEZONE
END:VCALENDAR