BEGIN:VCALENDAR
VERSION:2.0
PRODID:-//wp-events-plugin.com//7.2.3.1//EN
TZID:Europe/Berlin
X-WR-TIMEZONE:Europe/Berlin
BEGIN:VEVENT
UID:0-474@sgdu-mbh.de
DTSTART;TZID=Europe/Berlin;VALUE=DATE:20241115
DTEND;TZID=Europe/Berlin;VALUE=DATE:20241117
DTSTAMP:20240905T072359Z
URL:https://sgdu-mbh.de/veranstaltungen/praxisgruendungs-seminar-halle-7/
SUMMARY:Praxisgründungs-Seminar | Halle
DESCRIPTION:Das zweitägige Seminar soll Ihnen eine Hilfestellung beim Aufb
 au Ihrer neuen Praxis geben. Die Themen sind so ausgewählt\, dass sie ein
 en maximalen Praxisbezug zu Ihrem Arbeitsalltag haben.\n\nDie „theoretis
 chen“ Ausführungen von Frau Nitz werden dafür durch „praktische“ U
 msetzungsbeispiele durch Herrn Markov\, in dessen Praxis das Seminar statt
 findet\, ergänzt.\nTermin\nFreitag\, 15. November von 15.00 bis 18.30 Uhr
  und\nSamstag\, 16. November von 9.00 bis ca. 15.00 Uhr\nInhalte\nI. Die w
 irtschaftlichen Grundlagen der Praxisführung\n\n 	Allgemeine Grundlagen 
 – woher kommt das Geld?\n 	GKV und Entwicklung des EBM\n 	KV-spezifische
  „Budgetregelungen“ in Sachsen\, Sachsen-Anhalt\nund Thüringen\n 	Lab
 or\, Heimbesuche\, TSVG und Co …\n 	GKV-Abrechnungen im Speziellen\n 	Ve
 rmeidung von Wirtschaftlichkeitsprüfungen im Honorar- und Arzneimittelber
 eich\n 	Aufbau der GOÄ-Abrechnung\n\nII. Umsetzung in der Praxis\n\n 	Org
 anisation einer „papierlosen“ Praxis\n 	Ermittlung statistischer Daten
  in der EDV\n 	Marketingstrategien\n 	Entwicklung\, Umsetzung und Modifika
 tion eines Marketingkonzeptes\n\nVeranstaltungsort:\nUrologische Praxis Mi
 roslav Markov\nWilhelm-von-Klewitz-Str. 11 | 06132 Halle (Saale)\nwww.urol
 ogiehalle.de\nReferenten\nMiroslav Markov (niedergelassener Urologe)\nKatr
 in Nitz (Dr. R. Pfleger GmbH)\nTeilnahmegebühr\n416\,50 Euro inkl. MwSt.\
 n\nMit freundlicher Unterstützung von: \nProgramm und weitere Infos\n[sdm
 _download id="9916" fancy="0"]\nAnmeldung:\n﻿
CATEGORIES:Ärztinnen &amp; Ärzte,Praxis gründen
LOCATION:Urologische Praxis Miroslav Markov\, Wilhelm-von-Klewitz-Straße 1
 1\, Halle (Saale)\, 06108\, Deutschland
GEO:51.44380020000001;11.965797899999984
X-APPLE-STRUCTURED-LOCATION;VALUE=URI;X-ADDRESS=Wilhelm-von-Klewitz-Straße
  11\, Halle (Saale)\, 06108\, Deutschland;X-APPLE-RADIUS=100;X-TITLE=Urolo
 gische Praxis Miroslav Markov:geo:51.44380020000001,11.965797899999984
END:VEVENT
BEGIN:VTIMEZONE
TZID:Europe/Berlin
X-LIC-LOCATION:Europe/Berlin
BEGIN:STANDARD
DTSTART:20241027T020000
TZOFFSETFROM:+0200
TZOFFSETTO:+0100
TZNAME:CET
END:STANDARD
END:VTIMEZONE
END:VCALENDAR