BEGIN:VCALENDAR
VERSION:2.0
PRODID:-//wp-events-plugin.com//7.2.3.1//EN
TZID:Europe/Berlin
X-WR-TIMEZONE:Europe/Berlin
BEGIN:VEVENT
UID:0-533@sgdu-mbh.de
DTSTART;TZID=Europe/Berlin;VALUE=DATE:20260418
DTEND;TZID=Europe/Berlin;VALUE=DATE:20260420
DTSTAMP:20260313T082202Z
URL:https://sgdu-mbh.de/veranstaltungen/praxisgruendungs-seminar-celle-5/
SUMMARY:ABGESAGT: Praxisgründungs-Seminar | Celle
DESCRIPTION:Diese Veranstaltung wurde leider abgesagt.\nDas zweitägige Sem
 inar soll Ihnen eine Hilfestellung beim Aufbau Ihrer neuen Praxis geben. D
 ie Themen sind so ausgewählt\, dass sie einen maximalen Praxisbezug zu Ih
 rem Arbeitsalltag haben.\n\nDie „theoretischen“ Ausführungen von Frau
  Nitz werden dafür durch „praktische“ Umsetzungsbeispiele durch Herrn
  Dr. Alexander Hartmann ergänzt\, in dessen Praxis das Seminar stattfinde
 t.\nTermin\nSamstag\, 18. April 2026 von 10.00 bis 18.00 Uhr und\nSonntag\
 , 19 April 2026 von 8.30 bis ca. 14.00 Uhr\nInhalte\nI. Die wirtschaftlich
 en Grundlagen der Praxisführung\n\n 	Mögliche Entwicklungsszenarien im G
 esundheitsbereich und Auswirkungen für Ihre Praxis\n 	Die Rolle der KV\n 
 	KV-spezifische „Budgetregelungen“ in Hamburg\, Bremen\, Schleswig Hol
 stein und Niedersachsen\n 	IGeL-Leistungen\n 	Vermeidung von Wirtschaftlic
 hkeitsprüfungen im Honorar- und Arzneimittelbereich\n 	Ambulantes Operier
 en\n\nII. Umsetzung in der Praxis\n\n 	Organisation einer „papierlosen
 “ Praxis\n 	Ermittlung statistischer Daten in der EDV\n 	Marketingstrate
 gien\n 	Entwicklung\, Umsetzung und Modifikation eines Marketingkonzeptes\
 n\nVeranstaltungsort:\nUrologische Praxis Celle GbR\nWehlstraße 33 | 2922
 1 Celle\nwww.u-p-c.net\nReferenten\nDr. Alexander Hartmann\nNiedergelassen
 er Urologe\n\nKatrin Nitz\nDr. Pfleger Arzneimittel GmbH\nTeilnahmegebühr
 \n416\,50 Euro inkl. MwSt.\nProgramm und weitere Infos\n[sdm_download id="
 10453" fancy="0"]\nAnmeldung\nEine Anmeldung ist nicht mehr möglich.\n\n\
 n\nMit freundlicher Unterstützung von: 
CATEGORIES:Ärztinnen &amp; Ärzte,Praxis gründen
LOCATION:Urologische Praxis Celle GbR\, Wehlstraße 33\, Celle\, Niedersach
 sen\, 29221\, Landkreis Celle\, Deutschland
GEO:52.620501;10.086365
X-APPLE-STRUCTURED-LOCATION;VALUE=URI;X-ADDRESS=Wehlstraße 33\, Celle\, Ni
 edersachsen\, 29221\, Landkreis Celle\, Deutschland;X-APPLE-RADIUS=100;X-T
 ITLE=Urologische Praxis Celle GbR:geo:52.620501,10.086365
END:VEVENT
BEGIN:VTIMEZONE
TZID:Europe/Berlin
X-LIC-LOCATION:Europe/Berlin
BEGIN:DAYLIGHT
DTSTART:20260329T030000
TZOFFSETFROM:+0100
TZOFFSETTO:+0200
TZNAME:CEST
END:DAYLIGHT
END:VTIMEZONE
END:VCALENDAR