BEGIN:VCALENDAR
VERSION:2.0
PRODID:-//wp-events-plugin.com//7.2.3.1//EN
TZID:Europe/Berlin
X-WR-TIMEZONE:Europe/Berlin
BEGIN:VEVENT
UID:0-467@sgdu-mbh.de
DTSTART;TZID=Europe/Berlin;VALUE=DATE:20250517
DTEND;TZID=Europe/Berlin;VALUE=DATE:20250519
DTSTAMP:20241126T082330Z
URL:https://sgdu-mbh.de/veranstaltungen/praxisgruendungs-seminar-bad-nauhe
 im-4/
SUMMARY:Praxisgründungs-Seminar | Bad Nauheim
DESCRIPTION:Das zweitägige Seminar soll Ihnen eine Hilfestellung beim Aufb
 au Ihrer neuen Praxis geben. Die Themen sind so ausgewählt\, dass sie ein
 en maximalen Praxisbezug zu Ihrem Arbeitsalltag haben.\n\nDie „theoreti
 schen“ Ausführungen von Frau Ludmilla Kapahnke werden dafür durch „p
 raktische“ Umsetzungsbeispiele von Herrn Hans-Michael Bechstein\, in des
 sen Praxis das Seminar stattfindet\, ergänzt.\nTermin\nSamstag\, 17. Mai 
 2025 von 10.00 bis 18.00 Uhr und\nSonntag\, 18. Mai 2025 von 8.30 bis ca. 
 14.00 Uhr\nInhalte\nI. Die wirtschaftlichen Grundlagen der Praxisführung\
 n\n 	Allgemeine Grundlagen – woher kommt das Geld?\n 	GKV und Entwicklun
 g des EBM\n 	KV-spezifische „Budgetregelungen“ in Hessen\, Rheinland-P
 falz und Saarland\nund Thüringen\n 	Labor\, Heimbesuche\, TSVG und Co …
 \n 	GKV-Abrechnungen im Speziellen\n 	Vermeidung von Wirtschaftlichkeitspr
 üfungen im Honorar- und Arzneimittelbereich\n 	Aufbau der GOÄ-Abrechnung
 \n\nII. Umsetzung in der Praxis\n\n 	Organisation einer „papierlosen“ 
 Praxis\n 	Ermittlung statistischer Daten in der EDV\n 	Marketingstrategien
 \n 	Entwicklung\, Umsetzung und Modifikation eines Marketingkonzeptes\n\nV
 eranstaltungsort:\nUrologische Facharztpraxis Wetterau\nHans-Michael Bechs
 tein\nKurstraße 9 | 61231 Bad Nauheim\nwww.urologie-wetterau.de\nReferent
 en\nHans-Michael Bechstein\nNiedergelassener Urologe\n\nLudmilla Kapahnke\
 nDr. Pfleger Arzneimittel GmbH\nTeilnahmegebühr\n416\,50 Euro inkl. MwSt.
 \nUnterkunft und weitere Informationen\nBei Bedarf bitten wir Sie ein Hote
 zimmer selbständig zu buchen. Wir empfehlen folgendes Hotel\, in dem auch
  die Referenten übernachten:\n\nBoutique Hotel K7\nKurstr. 7\n61231 Bad 
 Nauheim\nTel: 06032 9232020\nProgramm und weitere Infos\n[sdm_download id=
 "9946" fancy="0"]\nAnmeldung\n﻿\n\n\n\nMit freundlicher Unterstützung v
 on: 
CATEGORIES:Ärztinnen &amp; Ärzte,Praxis gründen
LOCATION:Urologische Facharztpraxis Wetterau | Hans-Michael Bechstein\, Kur
 straße 9\, Bad Nauheim\, Hessen\, 61231\, Wetteraukreis\, Deutschland
GEO:50.36468;8.740652
X-APPLE-STRUCTURED-LOCATION;VALUE=URI;X-ADDRESS=Kurstraße 9\, Bad Nauheim\
 , Hessen\, 61231\, Wetteraukreis\, Deutschland;X-APPLE-RADIUS=100;X-TITLE=
 Urologische Facharztpraxis Wetterau | Hans-Michael Bechstein:geo:50.36468,
 8.740652
END:VEVENT
BEGIN:VTIMEZONE
TZID:Europe/Berlin
X-LIC-LOCATION:Europe/Berlin
BEGIN:DAYLIGHT
DTSTART:20250330T030000
TZOFFSETFROM:+0100
TZOFFSETTO:+0200
TZNAME:CEST
END:DAYLIGHT
END:VTIMEZONE
END:VCALENDAR