BEGIN:VCALENDAR
VERSION:2.0
PRODID:-//wp-events-plugin.com//7.2.3.1//EN
TZID:Europe/Berlin
X-WR-TIMEZONE:Europe/Berlin
BEGIN:VEVENT
UID:0-401@sgdu-mbh.de
DTSTART;TZID=Europe/Berlin;VALUE=DATE:20230715
DTEND;TZID=Europe/Berlin;VALUE=DATE:20230717
DTSTAMP:20230303T102805Z
URL:https://sgdu-mbh.de/veranstaltungen/praxisgruendungs-seminar-bad-nauhe
 im-3/
SUMMARY:Praxisgründungs-Seminar | Bad Nauheim
DESCRIPTION:Das zweitägige Seminar soll Ihnen eine Hilfestellung beim Aufb
 au Ihrer neuen Praxis geben. Die Themen sind so ausgewählt\, dass sie ein
 en maximalen Praxisbezug zu Ihrem Arbeitsalltag im Einzugsbereich der KVen
  Hessen\, Rheinland-Pfalz und Saarland haben.\n\nDie „theoretischen“ A
 usführungen von Herrn Hans-Michael Bechstein\, in dessen Praxis das Semin
 ar stattfindet\, werden dafür durch „praktische“ Umsetzungsbeispiele 
 durch Frau Ludmilla Kapahnke ergänzt.\nTermin\nSamstag\, 15. Juli 2023 vo
 n 10.00 bis 18.00 Uhr und\nSonntag\, 16. Juli 2023 von 8.30 bis ca. 14.00 
 Uhr\nInhalte\nI. Die wirtschaftlichen Grundlagen der Praxisführung\n\n 	M
 ögliche Entwicklungsszenarien im Gesundheitsbereich und Auswirkungen für
  Ihre Praxis\n 	Die Rolle der KV\n 	Aufbau der GKV-Abrechnung in Hessen\, 
 Rheinland-Pfalz und Saarland\n 	IGeL-Leistungen\n 	Vermeidung von Wirtscha
 ftlichkeitsprüfungen im Honorar- und Arzneimittelbereich\n 	Aufbau der GO
 Ä-Abrechnung\n\nII. Umsetzung in der Praxis\n\n 	Organisation einer „pa
 pierlosen“ Praxis\n 	Ermittlung statistischer Daten in der EDV\n 	Market
 ingstrategien\n 	Entwicklung\, Umsetzung und Modifikation eines Marketingk
 onzeptes\n\nVeranstaltungsort:\nUrologische Facharztpraxis Wetterau\nHans-
 Michael Bechstein\nKurstraße 9 | 61231 Bad Nauheim\nwww.urologie-wetterau
 .de\nReferenten\nHans-Michael Bechstein\nLudmilla Kapahnke\nTeilnahmegebü
 hr\n416\,50 Euro inkl. MwSt.\nUnterkunft und weitere Informationen\nIn Kü
 rze hier.\nAnmeldung\n[show_more color="#387259" more="Anmelden" less="Anm
 eldung schließen"]\n\n[/show_more]\nMit freundlicher Unterstützung von: 
CATEGORIES:Ärztinnen &amp; Ärzte,Praxis gründen
LOCATION:Urologische Facharztpraxis Wetterau | Hans-Michael Bechstein\, Kur
 straße 9\, Bad Nauheim\, Hessen\, 61231\, Wetteraukreis\, Deutschland
GEO:50.36468;8.740652
X-APPLE-STRUCTURED-LOCATION;VALUE=URI;X-ADDRESS=Kurstraße 9\, Bad Nauheim\
 , Hessen\, 61231\, Wetteraukreis\, Deutschland;X-APPLE-RADIUS=100;X-TITLE=
 Urologische Facharztpraxis Wetterau | Hans-Michael Bechstein:geo:50.36468,
 8.740652
END:VEVENT
BEGIN:VTIMEZONE
TZID:Europe/Berlin
X-LIC-LOCATION:Europe/Berlin
BEGIN:DAYLIGHT
DTSTART:20230326T030000
TZOFFSETFROM:+0100
TZOFFSETTO:+0200
TZNAME:CEST
END:DAYLIGHT
END:VTIMEZONE
END:VCALENDAR