BEGIN:VCALENDAR
VERSION:2.0
PRODID:-//wp-events-plugin.com//7.2.3.1//EN
TZID:Europe/Berlin
X-WR-TIMEZONE:Europe/Berlin
BEGIN:VEVENT
UID:0-532@sgdu-mbh.de
DTSTART;TZID=Europe/Berlin;VALUE=DATE:20260227
DTEND;TZID=Europe/Berlin;VALUE=DATE:20260301
DTSTAMP:20260115T105001Z
URL:https://sgdu-mbh.de/veranstaltungen/niederlassungsworkshop-berlin-8/
SUMMARY:Niederlassungsworkshop Berlin
DESCRIPTION:Sie sind an einer Niederlassung interessiert und möchten gern 
 aus erster Hand erfahren\, was dieser Schritt mit sich bringt? Beim Nieder
 lassungsworkshop erfahren junge Urologinnen und Urologen von Experten und 
 erfahrenen Kollegen\, wie Niederlassung gut funktioniert und welche Option
 en es gibt. Einzel- oder Gemeinschaftspraxis\, vertragsärztlich und/oder 
 privatärztlich? Was passt zu mir? Wie viel möchte ich arbeiten\, auch\, 
 um Arbeit und Familie gut zusammen zu bringen? Wie funktioniert die Abrech
 nung?\n\nIn den vergangenen Jahren sind die Niederlassungsmöglichkeiten u
 nd Arbeitsmodellein der ambulanten medizinischen Versorgung deutlich flexi
 bler geworden und es gibt immer mehr Praxisformen\, die eine stärkere Koo
 peration mit Kollegen oder eine Tätigkeit an mehreren Standorten erlauben
 .\n\nDiese Optionen stellen wir im Niederlassungsworkshop kompakt vor und 
 klären alle für die Entscheidung wichtigen Fragen zu rechtlichen Aspekte
 n\, Informationen zum Abrechnungs- und KV-System und zu Personalführung\,
  Finanzierung und Versicherung.\n\nAus der Praxis – für die Praxis.\n\n
 Nutzen Sie die Gelegenheit für einen interessanten Ausblick über die Mö
 glichkeiten und Chancen für eine Selbstständigkeit in der Urologie der Z
 ukunft.\n\nWir freuen uns auf Ihr Kommen!\nTermin\nFreitag\, 27.02.2026\n1
 7:30 - 19:45 Uhr\n\nSamstag\, 28.02.2026\n09:00 - 15:30 Uhr\nProgramm\n[xy
 z-ips snippet="Niederlassungsworkshop-Berlin-2026"]\n\n[sdm_download id="1
 0490" fancy="0"]\nAnmeldung\n﻿﻿\nFolgende Partner tragen zum guten Gel
 ingen dieser Veranstaltung bei:\n[su_row][su_column size="1/4" center="no"
 ]\n\n\n\n[/su_column][su_column size="1/4" center="no"]\n\n\n\n[/su_column
 ][su_column size="1/4" center="no"]\n\n\n\n[/su_column][su_column size="1/
 4" center="no"]\n\n&nbsp\;\n\n[/su_column]\n[/su_row]\n\n&nbsp\;
CATEGORIES:Ärztinnen &amp; Ärzte,Praxis gründen
LOCATION:IntercityHotel Berlin Hauptbahnhof\, Katharina-Paulus-Straße 5\, 
 Berlin\, Berlin\, 10557\, Deutschland
GEO:52.523706;13.367015
X-APPLE-STRUCTURED-LOCATION;VALUE=URI;X-ADDRESS=Katharina-Paulus-Straße 5\
 , Berlin\, Berlin\, 10557\, Deutschland;X-APPLE-RADIUS=100;X-TITLE=Interci
 tyHotel Berlin Hauptbahnhof:geo:52.523706,13.367015
END:VEVENT
BEGIN:VTIMEZONE
TZID:Europe/Berlin
X-LIC-LOCATION:Europe/Berlin
BEGIN:STANDARD
DTSTART:20251026T020000
TZOFFSETFROM:+0200
TZOFFSETTO:+0100
TZNAME:CET
END:STANDARD
END:VTIMEZONE
END:VCALENDAR