BEGIN:VCALENDAR
VERSION:2.0
PRODID:-//wp-events-plugin.com//7.2.3.1//EN
TZID:Europe/Berlin
X-WR-TIMEZONE:Europe/Berlin
BEGIN:VEVENT
UID:0-298@sgdu-mbh.de
DTSTART;TZID=Europe/Berlin;VALUE=DATE:20220218
DTEND;TZID=Europe/Berlin;VALUE=DATE:20220220
DTSTAMP:20250403T074052Z
URL:https://sgdu-mbh.de/veranstaltungen/mfawissen-qualifizierungskurs-zur-
 hygiene-und-der-aufbereitung-von-medizinprodukten-7/
SUMMARY:MFAWissen: Qualifizierungskurs zur Hygiene und der Aufbereitung von
  Medizinprodukten
DESCRIPTION:Dieser industrieunabhängige Kurs zur Sachkundequalifikation f
 ür Hygiene und zum Management von Medizinprodukten folgt dem Konzept „v
 on der Praxis für die Praxis“. Die Lerninhalte werden auf der Grundlage
  verbindlicher Verpflichtungen immer auch aus der Sicht des Praxisinhabers
  vermittelt.\n\nDie Referenten sind niedergelassene Ärzte mit langjährig
 er „Hygieneerfahrung“ in der Praxis.\n\nDiesem Kurs liegt das von der 
 BÄK konzipierte 24-stündige Seminar zu Grunde als Hybrid aus Präsenzver
 anstaltung und Online-Selbststudium mit Lernerfolgskontrolle und Abschluss
 gespräch. Kursbestandteil sind eine Seminarbroschüre und eine umfangreic
 he Literatur-CD. Durch die Anerkennung der Ärztekammer Berlin ist das Zer
 tifikat berhördentauglich.\n\nWir würden uns freuen auf Ihre Teilnahme!\
 nKursgebühr\n465\,00 € für Mitglieder eines Berufsverbandes\n499\,00 
 € für Nichtmitglieder\n\nJeweils inkl. Tagesverpflegung.\nAnmeldung\n[s
 how_more color="#387259" more="Jetzt anmelden!" less="Anmeldung schließen
 "]\n\n[/show_more]
CATEGORIES:Hygiene,Medizinische Fachangestellte
LOCATION:Sankt Marien Krankenhaus\, Werdener Straße 3\, Ratingen\, Nordrhe
 in-Westfalen\, 40878\, Kreis Mettmann\, Deutschland
GEO:51.300213;6.852476
X-APPLE-STRUCTURED-LOCATION;VALUE=URI;X-ADDRESS=Werdener Straße 3\, Rating
 en\, Nordrhein-Westfalen\, 40878\, Kreis Mettmann\, Deutschland;X-APPLE-RA
 DIUS=100;X-TITLE=Sankt Marien Krankenhaus:geo:51.300213,6.852476
END:VEVENT
BEGIN:VTIMEZONE
TZID:Europe/Berlin
X-LIC-LOCATION:Europe/Berlin
BEGIN:STANDARD
DTSTART:20211031T020000
TZOFFSETFROM:+0200
TZOFFSETTO:+0100
TZNAME:CET
END:STANDARD
END:VTIMEZONE
END:VCALENDAR