BEGIN:VCALENDAR
VERSION:2.0
PRODID:-//wp-events-plugin.com//7.2.3.1//EN
TZID:Europe/Berlin
X-WR-TIMEZONE:Europe/Berlin
BEGIN:VEVENT
UID:0-297@sgdu-mbh.de
DTSTART;TZID=Europe/Berlin:20220518T143000
DTEND;TZID=Europe/Berlin:20220518T173000
DTSTAMP:20220426T093504Z
URL:https://sgdu-mbh.de/veranstaltungen/mfawissen-onkologie-refresher-teil
 -2/
SUMMARY:MFAWissen: Onkologie-Refresher | Teil 2
DESCRIPTION:2-teiliges Live-Online-Seminar\nVeranstaltungs-Termine:\n\n 	Te
 il 1: Mittwoch\, 04. Mai 2022\, 14:30 - 17.30 Uhr\n 	Teil 2: Mittwoch\, 18
 . Mai 2022\, 14:30 - 17.30 Uhr\n\nDas Seminar ist zweiteilig\, dauert inkl
 usive Diskussion jeweils ca. 180 Minuten (von 14:30 Uhr bis 17:30 Uhr) und
  wird live online durchgeführt.\n\nNach erfolgter Teilnahme an beiden For
 tbildungsterminen und bestandener Wissensüberprüfung erhalten Sie im Nac
 hgang der Veranstaltung Ihr Teilnahme-Zertifikat.\n\n[ddownload id="8306" 
 text="Anmeldung &amp\; Infos zum Mitnehmen"]
CATEGORIES:Medizinische Fachangestellte
END:VEVENT
BEGIN:VTIMEZONE
TZID:Europe/Berlin
X-LIC-LOCATION:Europe/Berlin
BEGIN:DAYLIGHT
DTSTART:20220327T030000
TZOFFSETFROM:+0100
TZOFFSETTO:+0200
TZNAME:CEST
END:DAYLIGHT
END:VTIMEZONE
END:VCALENDAR