BEGIN:VCALENDAR
VERSION:2.0
PRODID:-//wp-events-plugin.com//7.2.3.1//EN
TZID:Europe/Berlin
X-WR-TIMEZONE:Europe/Berlin
BEGIN:VEVENT
UID:0-396@sgdu-mbh.de
DTSTART;TZID=Europe/Berlin:20230510T143000
DTEND;TZID=Europe/Berlin:20230510T173000
DTSTAMP:20230303T102805Z
URL:https://sgdu-mbh.de/veranstaltungen/mfawissen-onkologie-refresher-teil
 -2-2/
SUMMARY:MFAWissen: Onkologie-Refresher | Teil 2
DESCRIPTION:2-teiliges Live-Online-Seminar\nVeranstaltungs-Termine:\n\n 	Te
 il 1: Mittwoch\, 26. April 2023\, 14:30 – 17.30 Uhr\n 	Teil 2: Mittwoc
 h\, 10. Mai 2023\, 14:30 – 17.30 Uhr\n\nDas Seminar ist zweiteilig\, dau
 ert inklusive Diskussion jeweils ca. 180 Minuten (von 14:30 Uhr bis 17:30 
 Uhr) und wird live online durchgeführt.\n\nNach erfolgter Teilnahme an be
 iden Fortbildungsterminen und bestandener Wissensüberprüfung erhalten Si
 e im Nachgang der Veranstaltung Ihr Teilnahme-Zertifikat.\n\nWeitere Infos
  bei mfawissen.de
CATEGORIES:Medizinische Fachangestellte
END:VEVENT
BEGIN:VTIMEZONE
TZID:Europe/Berlin
X-LIC-LOCATION:Europe/Berlin
BEGIN:DAYLIGHT
DTSTART:20230326T030000
TZOFFSETFROM:+0100
TZOFFSETTO:+0200
TZNAME:CEST
END:DAYLIGHT
END:VTIMEZONE
END:VCALENDAR