BEGIN:VCALENDAR
VERSION:2.0
PRODID:-//wp-events-plugin.com//7.2.3.1//EN
TZID:Europe/Berlin
X-WR-TIMEZONE:Europe/Berlin
BEGIN:VEVENT
UID:0-551@sgdu-mbh.de
DTSTART;TZID=Europe/Berlin:20260422T143000
DTEND;TZID=Europe/Berlin:20260422T173000
DTSTAMP:20260326T130833Z
URL:https://sgdu-mbh.de/veranstaltungen/mfawissen-jaehrliche-aktualisierun
 g-der-kenntnisse-laut-onkologie-vereinbarung-teil-1-2/
SUMMARY:MFAWissen: Jährliche Aktualisierung der Kenntnisse laut Onkologie-
 Vereinbarung | Teil 1
DESCRIPTION:2-teiliges Live-Online-Seminar\nVeranstaltungs-Termine:\n\n 	Te
 il 1: Mittwoch\, 22. April 2026\, 14:30 Uhr – 17:30 Uhr\n 	Teil 2: Mittw
 och\, 6. Mai 2026\, 14:30 Uhr – 17:30 Uhr\n\nDas Seminar ist zweiteilig\
 , dauert inklusive Diskussion jeweils ca. 180 Minuten (von 14:30 Uhr bis 1
 7:30 Uhr) und wird live online durchgeführt.\n\nNach erfolgter Teilnahme 
 an beiden Fortbildungsterminen und bestandener Wissensüberprüfung erhalt
 en Sie im Nachgang der Veranstaltung Ihr Teilnahme-Zertifikat.\nInhalte Te
 il 1:\nVorträge (jeweils 45 Minuten) mit anschließenden Diskussionen. Na
 ch jedem Vortragspart erfolgt eine Wissensüberprüfung mit jeweils 4 Mult
 iple-Choice-Fragen\, gefolgt von einer Pause à 5 Minuten.\n\nAnmeldung bi
 tte bis zum 17. April 2026\nAnmeldeseite mit weiteren Infos: https://www.s
 erbiss.de/mfa-2026/\n[sdm_download id="10673" fancy="0"]\n\n\n\nFolgende P
 artner tragen zum guten Gelingen dieser Veranstaltung bei:\n[su_row][su_co
 lumn size="1/4"]\n\n\n\n[/su_column][su_column size="1/4"]\n\n[/su_column]
 \n\n[su_column size="1/4"]\n\n&nbsp\;\n\n[/su_column][su_column size="1/4"
 ]\n\n&nbsp\;\n\n[/su_column][/su_row]
CATEGORIES:Medizinische Fachangestellte,Online-Schulung
END:VEVENT
BEGIN:VTIMEZONE
TZID:Europe/Berlin
X-LIC-LOCATION:Europe/Berlin
BEGIN:DAYLIGHT
DTSTART:20260329T030000
TZOFFSETFROM:+0100
TZOFFSETTO:+0200
TZNAME:CEST
END:DAYLIGHT
END:VTIMEZONE
END:VCALENDAR