BEGIN:VCALENDAR
VERSION:2.0
PRODID:-//wp-events-plugin.com//7.2.3.1//EN
TZID:Europe/Berlin
X-WR-TIMEZONE:Europe/Berlin
BEGIN:VEVENT
UID:0-424@sgdu-mbh.de
DTSTART;TZID=Europe/Berlin:20230517T180000
DTEND;TZID=Europe/Berlin:20230517T183000
DTSTAMP:20251203T140309Z
URL:https://sgdu-mbh.de/veranstaltungen/kostenloses-webinar-mit-doctolib-e
 ntlastung-und-mehr-wirtschaftlichkeit-fuer-die-urologische-praxis/
SUMMARY:Kostenloses Webinar mit Doctolib: Entlastung und mehr Wirtschaftlic
 hkeit für die urologische Praxis
DESCRIPTION:Erfahren Sie unserem Webinar am 17.05.2023 um 18 Uhr\, wie Sie 
 Ihr Praxisteam durch Online-Terminbuchung und -verwaltung entlasten\, Term
 inausfälle reduzieren\, Patient:innen für attraktive Selbstzahler- und V
 orsorgeleistungen gewinnen sowie Patient:innen vollständig digital von Ha
 usärzt:innen überwiesen bekommen und finanziell profitieren.\n\n\nACHTUN
 G: Exklusiv für BvDU-Mitglieder gibt es aktuell 50% Neukundenrabatt in de
 n ersten 3 Monaten!\n\n 	Erfahren Sie hier mehr »\n\n\n&nbsp\;\nWebinar-I
 nhalte\n\n 	Kurze Vorstellung von Doctolib in Deutschland : Ziele\, Untern
 ehmen\, Entwicklung mit Nutzern (die Folien kennen Sie schon).\n 	Kurze Vo
 rstellung der Wertversprechen für Urolog:innen:\n\n 	Entlastung und mehr 
 Effizienz durch Online-Terminbuchung und -Terminverwaltung sowie optimale 
 Auslastung von Ressourcen (OP-Räume).\n 	Reduktion von Terminausfällen d
 urch automatisierte Terminerinnerungen und die digitale Warteliste.\n 	Gew
 innung von Patient:innen für attraktive Vorsorgeleistungen sowie Patient:
 innen für Privat- / IGeL-Leistungen durch ein Profil auf doctolib.de&lt\;
 http://doctolib.de/&gt\; und die gezielte Patientensteuerung mit Hilfe des
  Kalenders (z.B. Besuchsgründe für IGeL-Leistungen).\n 	Patient:innen vo
 n Hausärzt:innen digital überwiesen bekommen und bis zu 100% der Quartal
 spauschale zusätzlich sowie die gesamte Behandlung im Quartal extrabudget
 är erhalten.\n\n\n 	Nach der Theorie können wir in die Praxis gehen und 
 das Produkt sowohl aus Patienten- als auch aus Arzt-/MFA-Sicht zeigen.\n 	
 Zuletzt können wir Fragen beantworten und auf das vergünstigte Angebot f
 ür Mitglieder hinweisen.\n\nAnmeldung\nFolgen Sie diesem Link...
CATEGORIES:Ärztinnen &amp; Ärzte,Online-Schulung
END:VEVENT
BEGIN:VTIMEZONE
TZID:Europe/Berlin
X-LIC-LOCATION:Europe/Berlin
BEGIN:DAYLIGHT
DTSTART:20230326T030000
TZOFFSETFROM:+0100
TZOFFSETTO:+0200
TZNAME:CEST
END:DAYLIGHT
END:VTIMEZONE
END:VCALENDAR