BEGIN:VCALENDAR
VERSION:2.0
PRODID:-//wp-events-plugin.com//7.2.3.1//EN
TZID:Europe/Berlin
X-WR-TIMEZONE:Europe/Berlin
BEGIN:VEVENT
UID:0-219@sgdu-mbh.de
DTSTART;TZID=Europe/Berlin:20210227T100000
DTEND;TZID=Europe/Berlin:20210227T153000
DTSTAMP:20210301T083008Z
URL:https://sgdu-mbh.de/veranstaltungen/impfkurs-fuer-die-urologische-prax
 is/
SUMMARY:Impfkurs für die urologische Praxis
DESCRIPTION:Nicht nur die HPV-Impfung ist interessant für urologische Prax
 en\, sondern auch andere\, fachgebietsübergreifende Impfungen\, die dem S
 chutz der Bevölkerung dienen\, aktuell auch die anstehenden Covid-19-Impf
 ungen.\n\nDiesbezüglich müssen Urologinnen und Urologen\, die Impfungen 
 in ihrer Praxis anbieten wollen\, nicht nur die rechtliche Hintergründe\,
  die Empfehlungen der Ständigen Impfkommission (STIKO) und die notwendige
  Impfdokumentation kennen\, sondern auch über Impfreaktionen\, -komplikat
 ionen\, Impfungen bei chronisch Kranken\, Immundeffizienten und weiteres i
 nformiert sein.\n\nInsofern dient dieser Kurs der Erhöhung der Fachkompet
 enz und nicht zuletzt auch der Qualitätssicherung.\nInhalte u.a.\n\n 	Gru
 ndlagen: Prinzip und Ziel von Schutzimpfungen\, Impfaufklärung\, Kontrain
 dikationen\, Impfabstände\, Impfstoffe\, Wirkungen\, Nebenwirkungen\n 	ST
 IKO-Impfkalender\n 	Spezielle Themen: Impfungen im Umfeld von Schwangersch
 aften\, bei chronisch Kranken\, onkologischen und/oder Patienten unter imm
 unsuppressiver Therapie\n 	Impfmanagement: Von der durchführung über die
  dokumentation bis zur Abrechnung\n\n\n&nbsp\;\n7 CME-Punkte\n\n\n\n[ddown
 load id="7713" text="Programm zum Mitnehmen"] Jetzt anmelden\n\n\n\nMit fr
 eundlicher Unterstützung durch\n[su_row][su_column size="1/3"]\n\n\n\n[/s
 u_column][su_column size="1/3"]\n\nMehr zu MSD\n[ddownload id="7722" text=
 "GARDASIL® 9 (PDF)"]\n[ddownload id="7723" text="PNEUMOVAX® 23 Fertigspr
 itze (PDF)"]\n\n[/su_column][su_column size="1/3"]\n\nWeiterführende Bera
 tung:\nDr. Peter Schröder\nMSD Sharp & Dohme GmbH\nE-Mail schreiben &rarr
 \;\n\n[/su_column][/su_row]\n[su_row][su_column size="1/3"]\n\n	\n\n[/su_c
 olumn][su_column size="1/3"]\n\n[ddownload id="7768" text="Impf-Infos von 
 Pfizer"]\n\n[/su_column][su_column size="1/3"]\n\n&nbsp\;\n\n[/su_column][
 su_column size="1/4"][/su_row]
CATEGORIES:Ärztinnen &amp; Ärzte,Impfen
END:VEVENT
BEGIN:VTIMEZONE
TZID:Europe/Berlin
X-LIC-LOCATION:Europe/Berlin
BEGIN:STANDARD
DTSTART:20201025T020000
TZOFFSETFROM:+0200
TZOFFSETTO:+0100
TZNAME:CET
END:STANDARD
END:VTIMEZONE
END:VCALENDAR