BEGIN:VCALENDAR
VERSION:2.0
PRODID:-//wp-events-plugin.com//7.2.3.1//EN
TZID:Europe/Berlin
X-WR-TIMEZONE:Europe/Berlin
BEGIN:VEVENT
UID:0-408@sgdu-mbh.de
DTSTART;TZID=Europe/Berlin:20231108T150000
DTEND;TZID=Europe/Berlin:20231108T193000
DTSTAMP:20231017T113104Z
URL:https://sgdu-mbh.de/veranstaltungen/grundlagentraining-transurethrale-
 therapie-mit-botulinumtoxin-mannheim/
SUMMARY:Grundlagentraining - Transurethrale Therapie mit Botulinumtoxin | M
 annheim
DESCRIPTION:Zum 1. Januar 2018 wurde die Botox-Behandlung bei bestimmten Bl
 asenfunktionsstörungen als neue Leistung in den EBM aufgenommen. Für Uro
 logen wurden drei neue Gebührenordnungspositionen (GOP) im EBM aufgenomme
 n.\n\nDie Berechnung der neuen GOP 26316 setzt eine Genehmigung Ihrer zust
 ändigen Kassenärztlichen Vereinigung voraus. Die Genehmigung wird erteil
 t\, wenn jährlich die Teilnahme an von der jeweiligen Landesärztekammer 
 anerkannten Fortbildungen zur Therapie von Blasenfunktionsstörungen im Um
 fang von insgesamt mind. 8 CME-Punkten nachgewiesen wird.\n\nDie Vergütun
 g der GOPn erfolgt extrabudgetär.\n\nEine Fortbildung\, die sowohl auf di
 e wesentlichen Voraussetzungen für die Durchführung der transurethralen 
 Therapie mit Botulinumtoxin genauso eingeht wie auch auf die praktische Du
 rchführung.\nReferent\nDr. med. Andres Melchior\nAnmeldung\n\n\nMit freun
 dlicher Unterstützung von: \n
CATEGORIES:Ärztinnen &amp; Ärzte,Transurethrale Therapie mit
 Botulinumtoxin
LOCATION:Holiday Inn Mannheim City\, Glücksteinallee 1\, Mannheim\, Baden-
 Württemberg\, 68163\, Deutschland
GEO:49.477666;8.468618
X-APPLE-STRUCTURED-LOCATION;VALUE=URI;X-ADDRESS=Glücksteinallee 1\, Mannhe
 im\, Baden-Württemberg\, 68163\, Deutschland;X-APPLE-RADIUS=100;X-TITLE=H
 oliday Inn Mannheim City:geo:49.477666,8.468618
END:VEVENT
BEGIN:VTIMEZONE
TZID:Europe/Berlin
X-LIC-LOCATION:Europe/Berlin
BEGIN:STANDARD
DTSTART:20231029T020000
TZOFFSETFROM:+0200
TZOFFSETTO:+0100
TZNAME:CET
END:STANDARD
END:VTIMEZONE
END:VCALENDAR