BEGIN:VCALENDAR
VERSION:2.0
PRODID:-//wp-events-plugin.com//7.2.3.1//EN
TZID:Europe/Berlin
X-WR-TIMEZONE:Europe/Berlin
BEGIN:VEVENT
UID:0-181@sgdu-mbh.de
DTSTART;TZID=Europe/Berlin:20200924T090000
DTEND;TZID=Europe/Berlin:20200924T133000
DTSTAMP:20200825T144119Z
URL:https://sgdu-mbh.de/veranstaltungen/grundlagentraining-transurethrale-
 therapie-mit-botulinumtoxin-7/
SUMMARY:Grundlagentraining - Transurethrale Therapie mit Botulinumtoxin
DESCRIPTION:Die Veranstaltung findet im Umfeld des DGU-Kongress statt und i
 st mit 6 CME-Punkten zertifiziert.\n\nZum 1. Januar 2018 wurde die Botox-B
 ehandlung bei bestimmten Blasenfunktionsstörungen als neue Leistung in de
 n EBM aufgenommen. Für Urologen wurden drei neue Gebührenordnungspositio
 nen (GOP) im EBM aufgenommen.\n\nDie Berechnung der neuen GOP 26316 setzt 
 eine Genehmgiung der Ihrer zuständigen Kassenärztlichen Vereinigung vora
 us. Die Genehmigung wird erteilt\, wenn jährlich die Teilnahme an von der
  jeweiligen Landesärztekammer anerkannten Fortbildungen zur Therapie von 
 Blasenfunktionsstörungen im Umfang von insgesamt mind. 8 CME-Punkten nach
 gewiesen wird.\n\nDie Vergütung der GOPn erfolgt extrabudgetär.\n\nEine 
 Fortbildung\, die sowohl auf die wesentlichen Voraussetzungen für die Dur
 chführung der transurethralen Therapie mit Botulinumtoxin genauso eingeht
  wie auch auf die praktische Durchführung.\nAnmeldung\n\n\nMit freundlich
 er Unterstützung von:\n
CATEGORIES:Ärztinnen &amp; Ärzte,Transurethrale Therapie mit
 Botulinumtoxin
LOCATION:The Westin Hotel Leipzig\, Gerberstr. 15\, Leipzig\, Sachsen\, 041
 05\, Deutschland
GEO:51.3466758;12.3756503
X-APPLE-STRUCTURED-LOCATION;VALUE=URI;X-ADDRESS=Gerberstr. 15\, Leipzig\, S
 achsen\, 04105\, Deutschland;X-APPLE-RADIUS=100;X-TITLE=The Westin Hotel L
 eipzig:geo:51.3466758,12.3756503
END:VEVENT
BEGIN:VTIMEZONE
TZID:Europe/Berlin
X-LIC-LOCATION:Europe/Berlin
BEGIN:DAYLIGHT
DTSTART:20200329T030000
TZOFFSETFROM:+0100
TZOFFSETTO:+0200
TZNAME:CEST
END:DAYLIGHT
END:VTIMEZONE
END:VCALENDAR