BEGIN:VCALENDAR
VERSION:2.0
PRODID:-//wp-events-plugin.com//7.2.3.1//EN
TZID:Europe/Berlin
X-WR-TIMEZONE:Europe/Berlin
BEGIN:VEVENT
UID:0-178@sgdu-mbh.de
DTSTART;TZID=Europe/Berlin:20200311T133000
DTEND;TZID=Europe/Berlin:20200311T180000
DTSTAMP:20191213T134812Z
URL:https://sgdu-mbh.de/veranstaltungen/grundlagentraining-transurethrale-
 therapie-mit-botulinumtoxin-4/
SUMMARY:Grundlagentraining - Transurethrale Therapie mit Botulinumtoxin
DESCRIPTION:Die Veranstaltung findet von dem vor dem NRWGU-Kongress statt.\
 n\nZum 1. Januar 2018 wurde die Botox-Behandlung bei bestimmten Blasenfunk
 tionsstörungen als neue Leistung in den EBM aufgenommen. Für Urologen wu
 rden drei neue Gebührenordnungspositionen (GOP) im EBM aufgenommen. \n\nD
 ie Berechnung der neuen GOP 26316 setzt eine Genehmgiung der Ihrer zustän
 digen Kassenärztlichen Vereinigung voraus. Die Genehmigung wird erteilt\,
  wenn jährlich die Teilnahme an von der jeweiligen Landesärztekammer ane
 rkannten Fortbildungen zur Therapie von Blasenfunktionsstörungen im Umfan
 g von insgesamt mind. 8 CME-Punkten nachgewiesen wird. \n\nDie Vergütung 
 der GOPn erfolgt extrabudgetär.\n\nEine Fortbildung\, die sowohl auf die 
 wesentlichen Voraussetzungen für die Durchführung der transurethralen Th
 erapie mit Botulinumtoxin genauso eingeht wie auch auf die praktische Durc
 hführung.\n\nCME-Punkte werden beantragt.\n\nAnmeldung\n\n\n\n&nbsp\;\nMi
 t freundlicher Unterstützung von:\n\n\n\n\n
CATEGORIES:Ärztinnen &amp; Ärzte,Transurethrale Therapie mit
 Botulinumtoxin
LOCATION:H+ Hotel Bochum\, Stadionring 22\, Bochum\, Nordrhein-Westfalen\, 
 44791\, Deutschland
GEO:51.491768;7.233845
X-APPLE-STRUCTURED-LOCATION;VALUE=URI;X-ADDRESS=Stadionring 22\, Bochum\, N
 ordrhein-Westfalen\, 44791\, Deutschland;X-APPLE-RADIUS=100;X-TITLE=H+ Hot
 el Bochum:geo:51.491768,7.233845
END:VEVENT
BEGIN:VTIMEZONE
TZID:Europe/Berlin
X-LIC-LOCATION:Europe/Berlin
BEGIN:STANDARD
DTSTART:20191027T020000
TZOFFSETFROM:+0200
TZOFFSETTO:+0100
TZNAME:CET
END:STANDARD
END:VTIMEZONE
END:VCALENDAR