BEGIN:VCALENDAR
VERSION:2.0
PRODID:-//wp-events-plugin.com//7.2.3.1//EN
TZID:Europe/Berlin
X-WR-TIMEZONE:Europe/Berlin
BEGIN:VEVENT
UID:0-239@sgdu-mbh.de
DTSTART;TZID=Europe/Berlin:20211015T160000
DTEND;TZID=Europe/Berlin:20211015T203000
DTSTAMP:20211006T124327Z
URL:https://sgdu-mbh.de/veranstaltungen/grundlagentraining-transurethrale-
 therapie-mit-botulinumtoxin-13/
SUMMARY:ABGESAGT: Grundlagentraining - Transurethrale Therapie mit Botulinu
 mtoxin
DESCRIPTION:ACHTUNG: Diese Veranstaltung wurde abgesagt\nZum 1. Januar 2018
  wurde die Botox-Behandlung bei bestimmten Blasenfunktionsstörungen als n
 eue Leistung in den EBM aufgenommen. Für Urologen wurden drei neue Gebüh
 renordnungspositionen (GOP) im EBM aufgenommen.\n\nDie Berechnung der GOP 
 26316 setzt eine Genehmgiung der Ihrer zuständigen Kassenärztlichen Vere
 inigung voraus. Die Genehmigung wird erteilt\, wenn jährlich die Teilnahm
 e an von der jeweiligen Landesärztekammer anerkannten Fortbildungen zur T
 herapie von Blasenfunktionsstörungen im Umfang von insgesamt mind. 8 CME-
 Punkten nachgewiesen wird.\n\nDie Vergütung der GOPn erfolgt extrabudget
 är.\n\nEine Fortbildung\, die sowohl auf die wesentlichen Voraussetzungen
  für die Durchführung der transurethralen Therapie mit Botulinumtoxin ge
 nauso eingeht wie auch auf die praktische Durchführung.\nAnmeldung\nEine 
 Anmeldung ist nicht möglich.\n\nMit freundlicher Unterstützung von:\n
CATEGORIES:Ärztinnen &amp; Ärzte,Transurethrale Therapie mit
 Botulinumtoxin
LOCATION:Mövenpick Hotel Stuttgart Airport\, Flughafenstraße 50\, Stuttga
 rt\, Baden-Württemberg\, 70629\, Landkreis Esslingen\, Deutschland
GEO:48.6914038;9.1936588
X-APPLE-STRUCTURED-LOCATION;VALUE=URI;X-ADDRESS=Flughafenstraße 50\, Stutt
 gart\, Baden-Württemberg\, 70629\, Landkreis Esslingen\, Deutschland;X-AP
 PLE-RADIUS=100;X-TITLE=Mövenpick Hotel Stuttgart Airport:geo:48.6914038,9
 .1936588
END:VEVENT
BEGIN:VTIMEZONE
TZID:Europe/Berlin
X-LIC-LOCATION:Europe/Berlin
BEGIN:DAYLIGHT
DTSTART:20210328T030000
TZOFFSETFROM:+0100
TZOFFSETTO:+0200
TZNAME:CEST
END:DAYLIGHT
END:VTIMEZONE
END:VCALENDAR