BEGIN:VCALENDAR
VERSION:2.0
PRODID:-//wp-events-plugin.com//7.2.3.1//EN
TZID:Europe/Berlin
X-WR-TIMEZONE:Europe/Berlin
BEGIN:VEVENT
UID:0-526@sgdu-mbh.de
DTSTART;TZID=Europe/Berlin;VALUE=DATE:20250627
DTEND;TZID=Europe/Berlin;VALUE=DATE:20250629
DTSTAMP:20250605T092500Z
URL:https://sgdu-mbh.de/veranstaltungen/funktionelle-neuro-urologie-diagno
 stik-therapieformen/
SUMMARY:Funktionelle-/Neuro-Urologie - Diagnostik/Therapieformen
DESCRIPTION:Im Jahre 2018 hat die Kassenärztliche Vereinigung die Kostenü
 bernahme für eine Botulinumtoxin Typ-A Therapie bei Patienten mit neuroge
 ner Blasenentleerungsstörung bewilligt\, jedoch jährlich acht Fortbildun
 gspunkte verbindlich vorgeschrieben.\n\nMit dieser Fortbildung mit namhaft
 en Referenten ist die jährliche Punktzahl abgedeckt.\n\nSowohl für den A
 nfänger als auch für den erfahrenen Therapeuten haben wir interessante V
 orträge zusammengestellt. Es wird ausreichend Zeit für einen angeregten 
 und spannenden Erfahrungsaustausch sowie kritische Diskussionen bleiben.\n
 Programm\nFreitag\, 27.06.2025\n\n 	14:00 Uhr Begrüßung\nPriv.-Doz. Knü
 pfer / Dr. Lossin\n 	14:15 Uhr Harninkontinenz nach radikaler Prostatektom
 ie und Zystektomie\nDr. med. J. Bitter\n 	15:00 Uhr Ein besonderer Fall\nD
 r. med. A. Jaekel\n 	16:00 Uhr Pause und Besichtigung der Neuro-Urologie\n
 \n 	16:30 Uhr BPH Therapie: Langweilig und ein alter Hut?\nPD Dr. med. Joh
 annes Salem\n 	17:00Uhr Prävention von Harnwegsinfektionen\nPriv.-Doz. Dr
 .med. J. Kranz\n 	17:45 Uhr Zusammenfassung und Diskussion\nPriv.-Doz. Kn
 üpfer/ Dr. Lossin\n\nSamstag\, 28.06.2025\n\n 	9:00 Uhr Begrüßung\nPriv
 .-Doz. Knüpfer / Dr. Lossin\n 	9:15 Uhr Restharnfreie Blasenentleerung 
 – mit dem intermittierenden Selbstkatheterismus ans Ziel\nDr. med. M. v.
  Danwitz\n 	10:00 Uhr Dissertationskolloquium – Doktoranden stellen ihre
  Projekte vor\nSebastian Lindenblatt: "Miktionstagebücher bei neurogener 
 vs. Nicht-neurogener Dysfunktion des unteren Harntrakt"\nKatharina Plümac
 her: "Bestehen Genderspezifische Unterschiede in den Blasenfunktionsparame
 ter bei Patienten mit Multipler\nSklerose."\n 	10:45 Uhr Pause\n 	11:15 Uh
 r Harnwegsinfektionen bei Kindern\nDr. med. Alexander Cox\n 	12:00 Uhr Was
  tun\, wenn „Botox®“ nicht mehr wirkt? – Therapiealternativen\nPriv
 .-Doz. Knüpfer\n 	12:45 Uhr Praktische Erfahrungen und Abrechnungstipps B
 otulinumtoxin\nCarolin Jacobs\n 	13:30 Uhr Diskussion und Zusammenfassung\
 nPriv.-Doz. Knüpfer / Dr. Lossin\n\nWeitere Informationen und Anmeldung\n
 Alle weiteren Infomationen finden Sie im Flyer\, den Sie nachfolgend herun
 terladen können.\n\n[sdm_download id="10416" fancy="0"]
CATEGORIES:Ärztinnen &amp; Ärzte
LOCATION:Neurologische Rehabilitationsklinik Godeshöhe der Johanniter Klin
 iken\, Waldstraße 2-10\, Bonn\, Nordrhein-Westfalen\, 53177\, Deutschland
GEO:50.68256;7.137845
X-APPLE-STRUCTURED-LOCATION;VALUE=URI;X-ADDRESS=Waldstraße 2-10\, Bonn\, N
 ordrhein-Westfalen\, 53177\, Deutschland;X-APPLE-RADIUS=100;X-TITLE=Neurol
 ogische Rehabilitationsklinik Godeshöhe der Johanniter Kliniken:geo:50.68
 256,7.137845
END:VEVENT
BEGIN:VTIMEZONE
TZID:Europe/Berlin
X-LIC-LOCATION:Europe/Berlin
BEGIN:DAYLIGHT
DTSTART:20250330T030000
TZOFFSETFROM:+0100
TZOFFSETTO:+0200
TZNAME:CEST
END:DAYLIGHT
END:VTIMEZONE
END:VCALENDAR