BEGIN:VCALENDAR
VERSION:2.0
PRODID:-//wp-events-plugin.com//7.2.3.1//EN
TZID:Europe/Berlin
X-WR-TIMEZONE:Europe/Berlin
BEGIN:VEVENT
UID:0-285@sgdu-mbh.de
DTSTART;TZID=Europe/Berlin:20210917T153000
DTEND;TZID=Europe/Berlin:20210917T173000
DTSTAMP:20210901T091930Z
URL:https://sgdu-mbh.de/veranstaltungen/bvdu-mitgliederversammlung-2021/
SUMMARY:BvDU-Mitgliederversammlung 2021
DESCRIPTION:Hierbei stehen neben den Neuwahlen zum Präsidium auch einige S
 atzungsänderungsanträge auf der Tagesordnung. Die offizielle Einladung z
 ur Mitgliederversammlung und die Satzungsänderungsanträge finden Sie auc
 h im Heft 7 „Der Urologe“.\nNeuwahlen zum Präsidium\nUmfangreiche Inf
 ormationen zu den Kandidaten finden Sie hier:\nhttps://urologie-gestalten.
 de/wahl-zum-bvdu-praesidium-2021/\nWichtige Hinweise zur Teilnahme an der 
 MV mit und ohne Teilnahme am DGU-Kongress\nhttps://urologie-gestalten.de/b
 log/hinweise-zur-teilnahme-an-der-mitgliederversammlung-des-bvdu/\n\n[ddow
 nload id="7916" text="Alle BvDU-Termine auf dem Kongress zum Mitnehmen"]\n
 Anmeldung zum DGU-Kongress\nhttps://www.dgu-serviceforum.de/registrierung/
 teilnehmer/\nWeitere Infos\nhttps://www.urologenportal.de/fileadmin/MDB/Im
 ages/Kongress2021/DGU_2021.pdf
CATEGORIES:BvDU auf dem DGU-Kongress,BvDU-Mitgliederversammlung
LOCATION:Messe Stuttgart\, Messepiazza 1\, Stuttgart\, 70629\, Deutschland
GEO:48.7667;9.1833
X-APPLE-STRUCTURED-LOCATION;VALUE=URI;X-ADDRESS=Messepiazza 1\, Stuttgart\,
  70629\, Deutschland;X-APPLE-RADIUS=100;X-TITLE=Messe Stuttgart:geo:48.766
 7,9.1833
END:VEVENT
BEGIN:VTIMEZONE
TZID:Europe/Berlin
X-LIC-LOCATION:Europe/Berlin
BEGIN:DAYLIGHT
DTSTART:20210328T030000
TZOFFSETFROM:+0100
TZOFFSETTO:+0200
TZNAME:CEST
END:DAYLIGHT
END:VTIMEZONE
END:VCALENDAR