BEGIN:VCALENDAR
VERSION:2.0
PRODID:-//wp-events-plugin.com//7.2.3.1//EN
TZID:Europe/Berlin
X-WR-TIMEZONE:Europe/Berlin
BEGIN:VEVENT
UID:0-397@sgdu-mbh.de
DTSTART;TZID=Europe/Berlin;VALUE=DATE:20230303
DTEND;TZID=Europe/Berlin;VALUE=DATE:20230305
DTSTAMP:20230303T102805Z
URL:https://sgdu-mbh.de/veranstaltungen/8-urologisches-fruehjahrsforum-202
 3/
SUMMARY:8. Urologisches Frühjahrsforum 2023
DESCRIPTION:Im Frühjahr haben Sie Gelegenheit\, sorgfältig ausgewählte\,
  aktuelle wissenschaftliche und berufspolitisch relevante Themen aus allen
  Bereichen der Urologie\, authentisch und praxisnah präsentiert von hochk
 lassigen Referenten\, zu erleben und hautnah zu diskutieren. - Seit Jahren
  eine der erfolgreichsten Veranstaltungen für Urologen!\n\nAlle Informati
 onen finden Sie hier»
CATEGORIES:Ärztinnen &amp; Ärzte,Urologisches Sommerforum
LOCATION:pentahotel Leipzig\, Großer Brockhaus 3\, Leipzig\, 04103\, Deuts
 chland
GEO:51.3408281;12.386860100000035
X-APPLE-STRUCTURED-LOCATION;VALUE=URI;X-ADDRESS=Großer Brockhaus 3\, Leipz
 ig\, 04103\, Deutschland;X-APPLE-RADIUS=100;X-TITLE=pentahotel Leipzig:geo
 :51.3408281,12.386860100000035
END:VEVENT
BEGIN:VTIMEZONE
TZID:Europe/Berlin
X-LIC-LOCATION:Europe/Berlin
BEGIN:STANDARD
DTSTART:20221030T020000
TZOFFSETFROM:+0200
TZOFFSETTO:+0100
TZNAME:CET
END:STANDARD
END:VTIMEZONE
END:VCALENDAR