BEGIN:VCALENDAR
VERSION:2.0
PRODID:-//wp-events-plugin.com//7.2.3.1//EN
TZID:Europe/Berlin
X-WR-TIMEZONE:Europe/Berlin
BEGIN:VEVENT
UID:0-154@sgdu-mbh.de
DTSTART;TZID=Europe/Berlin;VALUE=DATE:20210305
DTEND;TZID=Europe/Berlin;VALUE=DATE:20210307
DTSTAMP:20210224T123058Z
URL:https://sgdu-mbh.de/veranstaltungen/6-urologisches-fruehjahrsforum-lei
 pzig-2021/
SUMMARY:6. Urologisches Frühjahrsforum - 2021 online
DESCRIPTION:2016 fand das Urologische Frühjahrsforum zum ersten Mal statt 
 und wurde ein großer Erfolg. Seitdem ist ein kompaktes und inhaltstarkes 
 Forumsprogramm entstanden\, das sowohl für den Niedergelassenen als auch 
 für den Kliniker relevante Themenbereiche bietet.\n\nAlle Informationen u
 nd die Registrierung finden Sie unter\n\nsgdu-mbh.de/urologisches-fruehjah
 rsforum
CATEGORIES:Ärztinnen &amp; Ärzte,Urologisches Frühjahrsforum
END:VEVENT
BEGIN:VTIMEZONE
TZID:Europe/Berlin
X-LIC-LOCATION:Europe/Berlin
BEGIN:STANDARD
DTSTART:20201025T020000
TZOFFSETFROM:+0200
TZOFFSETTO:+0100
TZNAME:CET
END:STANDARD
END:VTIMEZONE
END:VCALENDAR