BEGIN:VCALENDAR
VERSION:2.0
PRODID:-//wp-events-plugin.com//7.2.3.1//EN
TZID:Europe/Berlin
X-WR-TIMEZONE:Europe/Berlin
BEGIN:VEVENT
UID:0-457@sgdu-mbh.de
DTSTART;TZID=Europe/Berlin;VALUE=DATE:20241122
DTEND;TZID=Europe/Berlin;VALUE=DATE:20241124
DTSTAMP:20240830T101242Z
URL:https://sgdu-mbh.de/veranstaltungen/28-belegarztforum/
SUMMARY:28. Belegarztforum
DESCRIPTION:Die UroJahresforen sind eine Erfolgsstory des Berufsverbands de
 r Deutschen Urologen e.V. und werden seit dem Jahr 2010 veranstaltet. Mit 
 inzwischen drei Standorten profitieren Urologinnen und Urologen aus Nieder
 lassungen und Kliniken bundesweit gleich mehrmals im Jahr von dieser renom
 mierten Veranstaltung. Erfahrene Kolleginnen und Kollegen präsentieren do
 rt authentisch und praxisnah\, aktuelle wissenschaftliche und berufspoliti
 sch relevante Themen aus allen Bereichen der Urologie. Darüber hinaus bes
 teht die einzigartige Möglichkeit\, interessante Kontakte zu knüpfen sow
 ie sich kollegial auszutauschen und zu diskutieren.\n\nFreuen Sie sich mit
  uns gemeinsam auf ein neues Kapitel dieser Erfolgsstory.\n\nWeitere Infor
 mationen finden Sie hier»
CATEGORIES:Ärztinnen &amp; Ärzte
LOCATION:La Strada Hotel Kassel\, Raiffeisenstraße 10\, Kassel\, Hessen\, 
 34121\, Deutschland
GEO:51.293566;9.479727
X-APPLE-STRUCTURED-LOCATION;VALUE=URI;X-ADDRESS=Raiffeisenstraße 10\, Kass
 el\, Hessen\, 34121\, Deutschland;X-APPLE-RADIUS=100;X-TITLE=La Strada Hot
 el Kassel:geo:51.293566,9.479727
END:VEVENT
BEGIN:VTIMEZONE
TZID:Europe/Berlin
X-LIC-LOCATION:Europe/Berlin
BEGIN:STANDARD
DTSTART:20241027T020000
TZOFFSETFROM:+0200
TZOFFSETTO:+0100
TZNAME:CET
END:STANDARD
END:VTIMEZONE
END:VCALENDAR